BEGIN:VCALENDAR
VERSION:2.0
PRODID:-//AUSVEG - ECPv6.10.3//NONSGML v1.0//EN
CALSCALE:GREGORIAN
METHOD:PUBLISH
X-ORIGINAL-URL:https://ausveg.com.au
X-WR-CALDESC:Events for AUSVEG
REFRESH-INTERVAL;VALUE=DURATION:PT1H
X-Robots-Tag:noindex
X-PUBLISHED-TTL:PT1H
BEGIN:VTIMEZONE
TZID:Australia/Melbourne
BEGIN:STANDARD
TZOFFSETFROM:+1100
TZOFFSETTO:+1000
TZNAME:AEST
DTSTART:20260404T160000
END:STANDARD
BEGIN:DAYLIGHT
TZOFFSETFROM:+1000
TZOFFSETTO:+1100
TZNAME:AEDT
DTSTART:20261003T160000
END:DAYLIGHT
END:VTIMEZONE
BEGIN:VEVENT
DTSTART;TZID=Australia/Melbourne:20260304T120000
DTEND;TZID=Australia/Melbourne:20260304T143000
DTSTAMP:20260420T032031
CREATED:20260105T221746Z
LAST-MODIFIED:20260211T035448Z
UID:10001156-1772625600-1772634600@ausveg.com.au
SUMMARY:AUSVEG Hort International Women’s Day Luncheon
DESCRIPTION:This event will bring together women from across the horticulture industry for an afternoon of connection\, discussion\, and celebration\, recognising the crucial role women play across the sector. \nJoin us in celebrating the many incredible achievements of women in horticulture at our International Women’s Day luncheon! And hear from special guest Jacquie Felgate! \nThere’ll be a two-course lunch\, with a beverage package and complimentary carparking for luncheon guests. \nRegister now!      \nPrice: $175 per person 
URL:https://ausveg.com.au/event/ausvegs-international-womens-day-luncheon/
LOCATION:Crown Aviary\, Melbourne\, VIC\, Australia
CATEGORIES:VIC
ATTACH;FMTTYPE=image/png:https://ausveg.com.au/app/uploads/2026/01/womens-day-luncheon-event-banner-1.png
ORGANIZER;CN="AUSVEG":MAILTO:info@ausveg.com.au
END:VEVENT
END:VCALENDAR