BEGIN:VCALENDAR
VERSION:2.0
PRODID:-//AUSVEG - ECPv6.10.3//NONSGML v1.0//EN
CALSCALE:GREGORIAN
METHOD:PUBLISH
X-WR-CALNAME:AUSVEG
X-ORIGINAL-URL:https://ausveg.com.au
X-WR-CALDESC:Events for AUSVEG
REFRESH-INTERVAL;VALUE=DURATION:PT1H
X-Robots-Tag:noindex
X-PUBLISHED-TTL:PT1H
BEGIN:VTIMEZONE
TZID:Australia/Melbourne
BEGIN:STANDARD
TZOFFSETFROM:+1100
TZOFFSETTO:+1000
TZNAME:AEST
DTSTART:20240406T160000
END:STANDARD
BEGIN:DAYLIGHT
TZOFFSETFROM:+1000
TZOFFSETTO:+1100
TZNAME:AEDT
DTSTART:20241005T160000
END:DAYLIGHT
END:VTIMEZONE
BEGIN:VEVENT
DTSTART;VALUE=DATE:20240305
DTEND;VALUE=DATE:20240307
DTSTAMP:20260420T133038
CREATED:20240122T025839Z
LAST-MODIFIED:20240206T002637Z
UID:10000904-1709596800-1709769599@ausveg.com.au
SUMMARY:ABARES Outlook Conference 2024
DESCRIPTION:ABARES Outlook Conference is where we come together with ideas and evidence to progress issues that affect the agricultural\, fisheries and forestry sector. \nThe redesigned event for 2024 is going hybrid. The theme is Shaping the Future: Opportunities\, risks\, and resilience. \nThis reflects ABARES’ commitment to explore the critical issues that will define the future of Australian agriculture\, fisheries and forestry. \nThe challenges we face today\, such as climate change\, evolving consumer preferences\, technological advancements\, and global trade dynamics\, require us to adapt and innovate continuously. \nThe conference is the perfect arena to discuss how we can navigate these challenges and seize the opportunities they present.
URL:https://ausveg.com.au/event/abares-outlook-conference-2024/
LOCATION:Hyatt Hotel Canberra\, 120 Commonwealth Ave\, Yarralumla\, ACT\, 2600\, Australia
CATEGORIES:ACT
ATTACH;FMTTYPE=image/png:https://ausveg.com.au/app/uploads/2024/01/abares-outlook.png
END:VEVENT
END:VCALENDAR