BEGIN:VCALENDAR
VERSION:2.0
PRODID:-//AUSVEG - ECPv6.10.3//NONSGML v1.0//EN
CALSCALE:GREGORIAN
METHOD:PUBLISH
X-ORIGINAL-URL:https://ausveg.com.au
X-WR-CALDESC:Events for AUSVEG
REFRESH-INTERVAL;VALUE=DURATION:PT1H
X-Robots-Tag:noindex
X-PUBLISHED-TTL:PT1H
BEGIN:VTIMEZONE
TZID:Australia/Melbourne
BEGIN:STANDARD
TZOFFSETFROM:+1100
TZOFFSETTO:+1000
TZNAME:AEST
DTSTART:20260404T160000
END:STANDARD
BEGIN:DAYLIGHT
TZOFFSETFROM:+1000
TZOFFSETTO:+1100
TZNAME:AEDT
DTSTART:20261003T160000
END:DAYLIGHT
END:VTIMEZONE
BEGIN:VEVENT
DTSTART;VALUE=DATE:20260922
DTEND;VALUE=DATE:20260924
DTSTAMP:20260420T090320
CREATED:20260310T031724Z
LAST-MODIFIED:20260310T031724Z
UID:10001208-1790035200-1790207999@ausveg.com.au
SUMMARY:Food Matters Live Rotterdam
DESCRIPTION:Building on the success of our Rotterdam debut\, Food Matters Live will return to the Ahoy Convention Centre on 22-23 September\, bringing together Europe’s product development community – an ambitious network of industry professionals at the heart of a region recognised for sustainable food and nutrition innovation. \nAcross two inspiring days\, discover the latest innovations\, insights and ideas shaping the future of food and drink\, designed for those working in product development\, technical and culinary roles. From cutting-edge content and trend insights to immersive showcases including Tastes of Better\, the Flavour & Colour Lab and the NPD Discovery Theatre\, we look forward to welcoming you back to Rotterdam this September.
URL:https://ausveg.com.au/event/food-matters-live-rotterdam/
LOCATION:Ahoy Convention Centre\, Rotterdam\, Netherlands
CATEGORIES:[International]
ATTACH;FMTTYPE=image/png:https://ausveg.com.au/app/uploads/2025/04/field.png
END:VEVENT
BEGIN:VEVENT
DTSTART;VALUE=DATE:20260922
DTEND;VALUE=DATE:20260924
DTSTAMP:20260420T090320
CREATED:20260310T031950Z
LAST-MODIFIED:20260310T031950Z
UID:10001209-1790035200-1790207999@ausveg.com.au
SUMMARY:World Agri-Tech London
DESCRIPTION:Europe’s premier event for agri food pioneers\, World Agri-Tech is a must-attend summit for those invested in advancing nature-positive\, resilient agriculture and food systems. \nJoin senior decision-makers on September 22-23\, 2026 for two days of pivotal discussions and unmatched networking opportunities.
URL:https://ausveg.com.au/event/world-agri-tech-london/
LOCATION:InterContinental O2\, London\, England\, United Kingdom
CATEGORIES:[International]
ATTACH;FMTTYPE=image/png:https://ausveg.com.au/app/uploads/2025/04/field.png
END:VEVENT
BEGIN:VEVENT
DTSTART;VALUE=DATE:20260923
DTEND;VALUE=DATE:20260925
DTSTAMP:20260420T090320
CREATED:20260310T032214Z
LAST-MODIFIED:20260310T032214Z
UID:10001210-1790121600-1790294399@ausveg.com.au
SUMMARY:GreenTech North America
DESCRIPTION:GreenTech North America\, specifically designed to connect with the North American Controlled Environment Agriculture (CEA) community. \nWith 90 exhibitors\, and over 1\,000 expected attendees\, GreenTech North America 2026 offers a premier platform for networking and growth of your business. At this brand new event in Philadelphia\, growers can find the latest technologies for growing high-value crops such as vegetables\, soft fruits\, ornamentals\, leafy greens\, and medicinal plants. \nEstablishing a presence in the U.S. and Canada is evident to GreenTech’s promise as the worldwide connector of sustainable food and flower production. Join us in Philadelphia (PA) and get inspired by the latest high-tech horticulture solutions!
URL:https://ausveg.com.au/event/greentech-north-america/
LOCATION:Philadelphia\, PA\, United States
CATEGORIES:[International]
ATTACH;FMTTYPE=image/png:https://ausveg.com.au/app/uploads/2026/03/greentech-amsterdam.png
END:VEVENT
END:VCALENDAR