BEGIN:VCALENDAR
VERSION:2.0
PRODID:-//AUSVEG - ECPv6.10.3//NONSGML v1.0//EN
CALSCALE:GREGORIAN
METHOD:PUBLISH
X-ORIGINAL-URL:https://ausveg.com.au
X-WR-CALDESC:Events for AUSVEG
REFRESH-INTERVAL;VALUE=DURATION:PT1H
X-Robots-Tag:noindex
X-PUBLISHED-TTL:PT1H
BEGIN:VTIMEZONE
TZID:Australia/Melbourne
BEGIN:STANDARD
TZOFFSETFROM:+1100
TZOFFSETTO:+1000
TZNAME:AEST
DTSTART:20170401T160000
END:STANDARD
BEGIN:DAYLIGHT
TZOFFSETFROM:+1000
TZOFFSETTO:+1100
TZNAME:AEDT
DTSTART:20170930T160000
END:DAYLIGHT
END:VTIMEZONE
BEGIN:VTIMEZONE
TZID:Australia/Melbourne
BEGIN:STANDARD
TZOFFSETFROM:+1100
TZOFFSETTO:+1000
TZNAME:AEST
DTSTART:20170401T160000
END:STANDARD
BEGIN:DAYLIGHT
TZOFFSETFROM:+1000
TZOFFSETTO:+1100
TZNAME:AEDT
DTSTART:20170930T160000
END:DAYLIGHT
END:VTIMEZONE
BEGIN:VTIMEZONE
TZID:Australia/Sydney
BEGIN:STANDARD
TZOFFSETFROM:+1100
TZOFFSETTO:+1000
TZNAME:AEST
DTSTART:20170401T160000
END:STANDARD
BEGIN:DAYLIGHT
TZOFFSETFROM:+1000
TZOFFSETTO:+1100
TZNAME:AEDT
DTSTART:20170930T160000
END:DAYLIGHT
END:VTIMEZONE
BEGIN:VEVENT
DTSTART;TZID=Australia/Melbourne:20171010T123000
DTEND;TZID=Australia/Melbourne:20171010T133000
DTSTAMP:20260424T194512
CREATED:20170912T041801Z
LAST-MODIFIED:20170925T012528Z
UID:10000481-1507638600-1507642200@ausveg.com.au
SUMMARY:Webinar: Nematodes in vegetable soils
DESCRIPTION:Join nematode specialist Dr Sarah Collins from the Western Australia Department of Primary Industries and Regional Development for an engaging webinar on Nematodes in vegetable soils – managing the bad and good ones. \nThis webinar will initially focus on the pest nematode\, outlining the life cycles of the root-knot and root-lesion nematodes and how this can be used to target control measures. \nThe webinar will also touch on the beneficial free-living nematodes\, discussing how these can be managed and used as soil health indicators. \nTo register for the webinar\, click here. The webinar is delivered by project VG15010 A multi-faceted approach to soil borne disease management. This project has been funded by Horticulture Innovation Australia Limited using the vegetable levy and funds from the Australian Government.
URL:https://ausveg.com.au/event/nematodes-vegetable-soils-webinar/
LOCATION:NT
CATEGORIES:ACT,VIC,NSW,QLD,NT,WA,TAS,SA
END:VEVENT
BEGIN:VEVENT
DTSTART;TZID=Australia/Melbourne:20171011T120000
DTEND;TZID=Australia/Melbourne:20171011T130000
DTSTAMP:20260424T194512
CREATED:20170925T034853Z
LAST-MODIFIED:20170925T035005Z
UID:10000561-1507723200-1507726800@ausveg.com.au
SUMMARY:Webinar: Risk assessment for pre-harvest water use
DESCRIPTION:Targeted at growers and Quality Assurance (QA) personnel\, this event has been specifically organised by the Fresh Produce Safety Centre Australia & New Zealand with direct input from the horticulture (fruit and vegetable) industry. \nFocusing on risk assessment of pre-harvest water\, speakers will discuss common pitfalls and corrective actions. Risk assessment is the identification of hazards and analysis of potential impacts\, and pre-harvest water includes all on-farm use of water\, up to the point of harvest. \nFor more information\, please see the flyer\, or to register for this webinar\, please click here.
URL:https://ausveg.com.au/event/webinar-risk-assessment-pre-harvest-water-use/
LOCATION:NT
CATEGORIES:ACT,VIC,NSW,QLD,NT,WA,TAS,SA
END:VEVENT
BEGIN:VEVENT
DTSTART;VALUE=DATE:20171015
DTEND;VALUE=DATE:20171022
DTSTAMP:20260424T194512
CREATED:20170920T040034Z
LAST-MODIFIED:20170920T040120Z
UID:10000463-1508025600-1508630399@ausveg.com.au
SUMMARY:National Nutrition Week
DESCRIPTION:With beginnings more than 20 years ago\, National Nutrition Week is Nutrition Australia’s annual healthy eating awareness campaign. \nNational Nutrition Week always coincides with the United Nations’ World Food Day\, which takes place on 16 October. \nThe theme for National Nutrition Week 2017 is Try for 5\, encouraging Australians to increase their vegetable consumption to the recommended five serves per day. \nNational Nutrition Week 2017 is 15-21 October 2017. For more information\, see the Nutrition Australia website!
URL:https://ausveg.com.au/event/national-nutrition-week/
LOCATION:NT
CATEGORIES:ACT,VIC,NSW,QLD,NT,WA,TAS,SA
END:VEVENT
BEGIN:VEVENT
DTSTART;TZID=Australia/Sydney:20171018T123000
DTEND;TZID=Australia/Sydney:20171018T133000
DTSTAMP:20260424T194512
CREATED:20170913T003024Z
LAST-MODIFIED:20170914T064203Z
UID:10000522-1508329800-1508333400@ausveg.com.au
SUMMARY:Webinar: Pesticides and insect control
DESCRIPTION:Chemicals have different modes of action that can affect both insect pest and beneficial species differently. It’s important to understand the risk profile of these modes of action\, and how this influences resistance management as well as informing the implementation of Integrated Pest Management (IPM). \nJoin the ICP project team and guest presenter Dr Paul Umina from cesar for this interactive session. \nClick here to register for the webinar\, which is delivered as part of a strategic levy investment through the Hort Innovation Vegetable Fund. \nTo find out more about the Soil Wealth and ICP projects visit the website\, or join the Community of Practice online. You can also follow the projects on Twitter @SoilWealthand @ProtectingCrops.
URL:https://ausveg.com.au/event/webinar-pesticides-insect-control/
LOCATION:NT
CATEGORIES:ACT,VIC,NSW,QLD,NT,WA,TAS,SA
END:VEVENT
END:VCALENDAR