BEGIN:VCALENDAR
VERSION:2.0
PRODID:-//AUSVEG - ECPv6.10.3//NONSGML v1.0//EN
CALSCALE:GREGORIAN
METHOD:PUBLISH
X-WR-CALNAME:AUSVEG
X-ORIGINAL-URL:https://ausveg.com.au
X-WR-CALDESC:Events for AUSVEG
REFRESH-INTERVAL;VALUE=DURATION:PT1H
X-Robots-Tag:noindex
X-PUBLISHED-TTL:PT1H
BEGIN:VTIMEZONE
TZID:Australia/Melbourne
BEGIN:STANDARD
TZOFFSETFROM:+1100
TZOFFSETTO:+1000
TZNAME:AEST
DTSTART:20240406T160000
END:STANDARD
BEGIN:DAYLIGHT
TZOFFSETFROM:+1000
TZOFFSETTO:+1100
TZNAME:AEDT
DTSTART:20241005T160000
END:DAYLIGHT
END:VTIMEZONE
BEGIN:VEVENT
DTSTART;TZID=Australia/Melbourne:20240226T083000
DTEND;TZID=Australia/Melbourne:20240226T173000
DTSTAMP:20260423T022808
CREATED:20240129T023528Z
LAST-MODIFIED:20240129T023528Z
UID:10000911-1708936200-1708968600@ausveg.com.au
SUMMARY:HARPS V2 and HACCP Refresher Training
DESCRIPTION:A trainer led course covering HARPS V2 requirements\nHACCP Refresher training meeting HARPS V2 requirements\nDesigned for the fresh produce industry in the NT\nCertified trainers with qualifications and experience in fresh food and manufacturing establishments\nContact them to discuss Freshcare or HAACP training available
URL:https://ausveg.com.au/event/harps-v2-and-haccp-refresher-training/
LOCATION:NT Farmers Conference Room\, Shop 15A\, Coolalinga Shopping Centre\, 460 Stuart Highway\, Coolalinga\, NT\, 0839\, Australia
CATEGORIES:NT
ATTACH;FMTTYPE=image/png:https://ausveg.com.au/app/uploads/2024/01/harps-haccp-refresher-training.png
END:VEVENT
BEGIN:VEVENT
DTSTART;TZID=Australia/Melbourne:20240227T080000
DTEND;TZID=Australia/Melbourne:20240227T140000
DTSTAMP:20260423T022808
CREATED:20240213T020930Z
LAST-MODIFIED:20240213T020930Z
UID:10000926-1709020800-1709042400@ausveg.com.au
SUMMARY:Soil Symposium 2024 Katherine
DESCRIPTION:Join Territory Natural Resource Management for a ground-breaking symposium dedicated to unravelling the mysteries of soil! Delve into the crucial topics of soil health and agriculture with expert presenters covering topics such as soil biology\, landscape rehydration\, horticulture\, vertical and hydroponic farming\, and discuss current research and activities aiming to improve soil health and conditions in Australia and the Northen Territory. \nEvents are free and include morning tea and a networking lunch. Registration required.
URL:https://ausveg.com.au/event/soil-symposium-2024-katherine/
LOCATION:Katherine Research Station
CATEGORIES:NT
ATTACH;FMTTYPE=image/png:https://ausveg.com.au/app/uploads/2024/02/soil-symposium-2024.png
END:VEVENT
BEGIN:VEVENT
DTSTART;TZID=Australia/Melbourne:20240228T080000
DTEND;TZID=Australia/Melbourne:20240228T140000
DTSTAMP:20260423T022808
CREATED:20240213T021044Z
LAST-MODIFIED:20240213T021044Z
UID:10000927-1709107200-1709128800@ausveg.com.au
SUMMARY:Soil Symposium 2024 Darwin
DESCRIPTION:Join Territory Natural Resource Management for a ground-breaking symposium dedicated to unravelling the mysteries of soil! Delve into the crucial topics of soil health and agriculture with expert presenters covering topics such as soil biology\, landscape rehydration\, horticulture\, vertical and hydroponic farming\, and discuss current research and activities aiming to improve soil health and conditions in Australia and the Northen Territory. \nEvents are free and include morning tea and a networking lunch. Registration required.
URL:https://ausveg.com.au/event/soil-symposium-2024-darwin/
LOCATION:CDU Waterfront
CATEGORIES:NT
ATTACH;FMTTYPE=image/png:https://ausveg.com.au/app/uploads/2024/02/soil-symposium-2024.png
END:VEVENT
BEGIN:VEVENT
DTSTART;TZID=Australia/Melbourne:20240229T080000
DTEND;TZID=Australia/Melbourne:20240229T140000
DTSTAMP:20260423T022808
CREATED:20240213T021145Z
LAST-MODIFIED:20240213T021145Z
UID:10000928-1709193600-1709215200@ausveg.com.au
SUMMARY:Soil Symposium 2024 Alice Springs
DESCRIPTION:Join Territory Natural Resource Management for a ground-breaking symposium dedicated to unravelling the mysteries of soil! Delve into the crucial topics of soil health and agriculture with expert presenters covering topics such as soil biology\, landscape rehydration\, horticulture\, vertical and hydroponic farming\, and discuss current research and activities aiming to improve soil health and conditions in Australia and the Northen Territory. \nEvents are free and include morning tea and a networking lunch. Registration required.
URL:https://ausveg.com.au/event/soil-symposium-2024-alice-springs/
LOCATION:Springs Desert Park
CATEGORIES:NT
ATTACH;FMTTYPE=image/png:https://ausveg.com.au/app/uploads/2024/02/soil-symposium-2024.png
END:VEVENT
END:VCALENDAR