BEGIN:VCALENDAR
VERSION:2.0
PRODID:-//AUSVEG - ECPv6.10.3//NONSGML v1.0//EN
CALSCALE:GREGORIAN
METHOD:PUBLISH
X-WR-CALNAME:AUSVEG
X-ORIGINAL-URL:https://ausveg.com.au
X-WR-CALDESC:Events for AUSVEG
REFRESH-INTERVAL;VALUE=DURATION:PT1H
X-Robots-Tag:noindex
X-PUBLISHED-TTL:PT1H
BEGIN:VTIMEZONE
TZID:Australia/Darwin
BEGIN:STANDARD
TZOFFSETFROM:+0930
TZOFFSETTO:+0930
TZNAME:ACST
DTSTART:20240101T000000
END:STANDARD
END:VTIMEZONE
BEGIN:VEVENT
DTSTART;VALUE=DATE:20240417
DTEND;VALUE=DATE:20240420
DTSTAMP:20260422T213832
CREATED:20240318T030057Z
LAST-MODIFIED:20240318T030057Z
UID:10000946-1713312000-1713571199@ausveg.com.au
SUMMARY:Mulloon Institute Bootcamp – NT
DESCRIPTION:Territory NRM presents: How to catch water and restore landscapes for your property with Mulloon Institute\nLearn how to apply simple strategies to improve productivity and drought resilience. Extend your wet season\, grow more grass! \nDay 1\n17 April 2024\n1:30pm-5:30pm (followed by a free BBQ)  \n$30 to attend Day 1 only. \nIn this afternoon introduction\, participants gain a foundational understanding of a farm’s water cycle and our approaches to rehydrating rural landscapes. Participants learn to read water processes to interpret landscape health. Day 1 tickets only are available. \n  \nDays 2 & 3\n18-19 April 2024\n8:30am – 4:30pm (includes all catering) \n$440 to attend all 3 days. \nA skills-based course about harnessing the water cycle to improve landscape function on your property. See first-hand how these solutions are working for Old Cameron Downs. \nThrough activities that blend scientific principles and practical skills\, you will learn about: \n\nThe role of the water cycle and plants in farming landscapes.\nDrivers and indicators of a healthy and unhealthy water cycle.\nHow to identify and prioritise issues on your property to ‘heal your hydrograph’.\nHow to apply sound planning and design principles to give your landscape rehydration project the best chance of success.
URL:https://ausveg.com.au/event/mulloon-institute-bootcamp-nt/
LOCATION:Old Cameron Downs\, 0845\, 65 Perreau Rd\, Eva Valley\, NT\, 0822\, Australia
CATEGORIES:NT
ATTACH;FMTTYPE=image/png:https://ausveg.com.au/app/uploads/2024/03/Screenshot-2024-03-18-140011.png
END:VEVENT
END:VCALENDAR