BEGIN:VCALENDAR
VERSION:2.0
PRODID:-//AUSVEG - ECPv6.10.3//NONSGML v1.0//EN
CALSCALE:GREGORIAN
METHOD:PUBLISH
X-ORIGINAL-URL:https://ausveg.com.au
X-WR-CALDESC:Events for AUSVEG
REFRESH-INTERVAL;VALUE=DURATION:PT1H
X-Robots-Tag:noindex
X-PUBLISHED-TTL:PT1H
BEGIN:VTIMEZONE
TZID:Australia/Darwin
BEGIN:STANDARD
TZOFFSETFROM:+0930
TZOFFSETTO:+0930
TZNAME:ACST
DTSTART:20260101T000000
END:STANDARD
END:VTIMEZONE
BEGIN:VTIMEZONE
TZID:Australia/Melbourne
BEGIN:STANDARD
TZOFFSETFROM:+1100
TZOFFSETTO:+1000
TZNAME:AEST
DTSTART:20260404T160000
END:STANDARD
BEGIN:DAYLIGHT
TZOFFSETFROM:+1000
TZOFFSETTO:+1100
TZNAME:AEDT
DTSTART:20261003T160000
END:DAYLIGHT
END:VTIMEZONE
BEGIN:VEVENT
DTSTART;VALUE=DATE:20260824
DTEND;VALUE=DATE:20260829
DTSTAMP:20260421T232043
CREATED:20251110T234523Z
LAST-MODIFIED:20251110T234523Z
UID:10001118-1787529600-1787961599@ausveg.com.au
SUMMARY:NT: Agronomy Australia Conference 2026
DESCRIPTION:The Australian Society of Agronomy’s 2026 conference in Darwin on August 24–28 will have a special focus on agronomy in horticulture. \nThe conference theme\, ‘Agronomy for a Diverse Future’\, will involve showcasing the diversity of crops\, farming systems\, technologies\, landscapes\, and knowledge shaping the agricultural sector\, highlighting innovation\, resilience\, and inclusion. \nThe conference will be held at Charles Darwin University’s newly opened CBD Danala Campus\, followed by a range of unique industry tours where delegates will experience northern Australian developments\, including mango farms during harvest\, the NT’s horticultural giants and broadacre crop research underway at leading facilities. \nThis is the first time that the biennial gathering will be held in northern Australia and is an important opportunity for agronomy leaders\, farmers\, researchers and industry personnel to meet\, network and share the latest science and best practice.
URL:https://ausveg.com.au/event/nt-agronomy-australia-conference-2026/
LOCATION:Charles Darwin University\, NT\, Australia
CATEGORIES:NT
ATTACH;FMTTYPE=image/png:https://ausveg.com.au/app/uploads/2025/11/agronomy-darwin-conference.png
END:VEVENT
BEGIN:VEVENT
DTSTART;VALUE=DATE:20260908
DTEND;VALUE=DATE:20260911
DTSTAMP:20260421T232043
CREATED:20260203T023108Z
LAST-MODIFIED:20260203T023108Z
UID:10001170-1788825600-1789084799@ausveg.com.au
SUMMARY:NT: 2026 Nuffield Australia National Conference
DESCRIPTION:The 2026 Nuffield Australia National Conference will be held in Darwin\, Northern Territory\, from Tuesday 8 – Thursday 10 September\, followed by a regional tour on Friday 11 – Saturday 12 September showcasing the unique agricultural industries of the Top End.
URL:https://ausveg.com.au/event/nt-2026-nuffield-australia-national-conference/
LOCATION:Darwin Convention Centre\, 10 Stokes Hill Rd\, Darwin\, NT\, 0800\, Australia
CATEGORIES:NT
ATTACH;FMTTYPE=image/png:https://ausveg.com.au/app/uploads/2026/02/2026-nuffield-australia-national-conference.png
ORGANIZER;CN="Nuffield Australia":MAILTO:enquiries@nuffield.com.au
END:VEVENT
END:VCALENDAR