BEGIN:VCALENDAR
VERSION:2.0
PRODID:-//AUSVEG - ECPv6.10.3//NONSGML v1.0//EN
CALSCALE:GREGORIAN
METHOD:PUBLISH
X-ORIGINAL-URL:https://ausveg.com.au
X-WR-CALDESC:Events for AUSVEG
REFRESH-INTERVAL;VALUE=DURATION:PT1H
X-Robots-Tag:noindex
X-PUBLISHED-TTL:PT1H
BEGIN:VTIMEZONE
TZID:Australia/Melbourne
BEGIN:STANDARD
TZOFFSETFROM:+1100
TZOFFSETTO:+1000
TZNAME:AEST
DTSTART:20170401T160000
END:STANDARD
BEGIN:DAYLIGHT
TZOFFSETFROM:+1000
TZOFFSETTO:+1100
TZNAME:AEDT
DTSTART:20170930T160000
END:DAYLIGHT
END:VTIMEZONE
BEGIN:VEVENT
DTSTART;TZID=Australia/Melbourne:20170912T080000
DTEND;TZID=Australia/Melbourne:20170912T160000
DTSTAMP:20260422T212432
CREATED:20170912T043857Z
LAST-MODIFIED:20170913T225939Z
UID:10000484-1505203200-1505232000@ausveg.com.au
SUMMARY:Workshop: Workplace Essentials (Lockyer Valley)
DESCRIPTION:Enrol now to attend a  Workplace Essentials workshop and get the information and resources you need to boost your farm business’ health\, safety and people management skills. \nThese workshops are being funded the Queensland Government and facilitated by the Queensland Agriculture Workforce Network (QAWN). They have been specifically tailored for farm managers\, team leaders and supervisors and will include practical activities. \nDuring the full day workshops\, the following topics will be covered: \nSESSION ONE: Workplace health and safety\n• Update on Workplace Health and Safety laws and regulations\n• WHS compliance checklist\n• Understanding and managing risks and hazards\n• When and how and to report incidents\n• Overview of useful WHS services and resources available to businesses \nSESSION TWO: People management\n• Performance and behaviour management\n• Handling conflict\, bullying and difficult conversations in the workplace\n• Supervisor responsibilities\n• Update on workplace relations laws\, regulations and programs\n• Overview of further training and funding available \nCOST:\n$30 per person – includes workshop\, resources\, morning and afternoon tea\, and lunch.
URL:https://ausveg.com.au/event/workshop-workplace-essentials-qld/
LOCATION:Goondiwindi Waggamba Community Cultural Centre\, Corner of Russell & Short Streets\, Goondiwindi\, QLD\, 4390\, Australia
CATEGORIES:QLD
ORGANIZER;CN="Growcom":MAILTO:growcom@growcom.com.au
END:VEVENT
BEGIN:VEVENT
DTSTART;TZID=Australia/Melbourne:20170913T084500
DTEND;TZID=Australia/Melbourne:20170913T160000
DTSTAMP:20260422T212432
CREATED:20170912T064826Z
LAST-MODIFIED:20170913T225943Z
UID:10000486-1505292300-1505318400@ausveg.com.au
SUMMARY:Workshop: Workplace Essentials (Stanthorpe)
DESCRIPTION:Enrol now to attend a  Workplace Essentials workshop and get the information and resources you need to boost your farm business’ health\, safety and people management skills. \nThese workshops are being funded the Queensland Government and facilitated by the Queensland Agriculture Workforce Network (QAWN). They have been specifically tailored for farm managers\, team leaders and supervisors and will include practical activities. \nDuring the full day workshops\, the following topics will be covered: \nSESSION ONE: Workplace health and safety\n• Update on Workplace Health and Safety laws and regulations\n• WHS compliance checklist\n• Understanding and managing risks and hazards\n• When and how and to report incidents\n• Overview of useful WHS services and resources available to businesses \nSESSION TWO: People management\n• Performance and behaviour management\n• Handling conflict\, bullying and difficult conversations in the workplace\n• Supervisor responsibilities\n• Update on workplace relations laws\, regulations and programs\n• Overview of further training and funding available
URL:https://ausveg.com.au/event/workshop-workplace-essentials-qld-3/
LOCATION:Stanthorpe Civic Centre\, Marsh Street\, Stanthorpe\, QLD\, 4380\, Australia
CATEGORIES:QLD
ORGANIZER;CN="Growcom":MAILTO:growcom@growcom.com.au
END:VEVENT
BEGIN:VEVENT
DTSTART;TZID=Australia/Melbourne:20170915T084500
DTEND;TZID=Australia/Melbourne:20170915T160000
DTSTAMP:20260422T212432
CREATED:20170912T064434Z
LAST-MODIFIED:20170913T225951Z
UID:10000485-1505465100-1505491200@ausveg.com.au
SUMMARY:Workshop: Workplace Essentials (Goondiwindi)
DESCRIPTION:Enrol now to attend a  Workplace Essentials workshop and get the information and resources you need to boost your farm business’ health\, safety and people management skills. \nThese workshops are being funded the Queensland Government and facilitated by the Queensland Agriculture Workforce Network (QAWN). They have been specifically tailored for farm managers\, team leaders and supervisors and will include practical activities. \nDuring the full day workshops\, the following topics will be covered: \nSESSION ONE: Workplace health and safety\n• Update on Workplace Health and Safety laws and regulations\n• WHS compliance checklist\n• Understanding and managing risks and hazards\n• When and how and to report incidents\n• Overview of useful WHS services and resources available to businesses \nSESSION TWO: People management\n• Performance and behaviour management\n• Handling conflict\, bullying and difficult conversations in the workplace\n• Supervisor responsibilities\n• Update on workplace relations laws\, regulations and programs\n• Overview of further training and funding available \nCOST:\n$30 per person – includes workshop\, resources\, morning and afternoon tea\, and lunch.
URL:https://ausveg.com.au/event/workshop-workplace-essentials-qld-2/
LOCATION:Lockyer Valley Cultural Centre\, 34 Lake Apex Dr\, Gatton\, QLD\, 4343\, Australia
CATEGORIES:QLD
ORGANIZER;CN="Growcom":MAILTO:growcom@growcom.com.au
END:VEVENT
BEGIN:VEVENT
DTSTART;VALUE=DATE:20170922
DTEND;VALUE=DATE:20170925
DTSTAMP:20260422T212432
CREATED:20170912T072214Z
LAST-MODIFIED:20170920T015803Z
UID:10000492-1506038400-1506297599@ausveg.com.au
SUMMARY:AWiA Conference (Brisbane)
DESCRIPTION:Australian Women in Agriculture (AWiA) invites you to join them for their National Conference in Brisbane at Oakwood Apartments & Hotel from 22 – 24 September 2017. \nThere will be a strong focus on the diversity of skills of and contributions made by women to Agriculture across the various sectors\, particularly those that demonstrate diversity\, sustainability and entrepreneurship. \nThe conference includes a program with local\, national and international speakers that will inspire delegates\, encourage dynamic thinking and offer opportunities to network with other women leading Australian agribusiness. There are also fplanned field trips to provide delegates with the opportunity to see diversity within the agricultural sector in practice as well as experience some of the highlights of South East Queensland. \nThe program features a dynamic variety of sessions\, including; \n\nSustainable & Stronger You\nKeeping you on track when you live and work “off the track”\nSelf-Development Opportunities including Superannuation\, Scholarships and Getting on Boards\nBusiness Development opportunities including getting grants\, understanding contracts and workplace safety systems\, Communicating for Impact\nSustainable Business & Land\nSustainable Food Supply & Healthy Communities\n\nThe conference opens with a Twilight Cocktail Party overlooking the Brisbane River sponsored by Ruralco on Friday evening. \nSaturday night features the Gala Dinner Cruise sponsored by Rural Bank aboard the Kookaburra Queen Riverboat. \nThe Conference is an event open to all women from rural\, regional and remote Australia . \nRegistrations can be completed via the AWiA website.
URL:https://ausveg.com.au/event/australian-women-agriculture-national-conference/
LOCATION:Oakwood Hotel and Apartments\, 15 Ivory Lane\, Brisbane\, QLD\, 4000\, Australia
CATEGORIES:QLD
ORGANIZER;CN="Australian Women in Agriculture":MAILTO:administration@awia.org.au
END:VEVENT
BEGIN:VEVENT
DTSTART;VALUE=DATE:20170926
DTEND;VALUE=DATE:20170929
DTSTAMP:20260422T212432
CREATED:20170913T015543Z
LAST-MODIFIED:20170913T230121Z
UID:10000534-1506384000-1506643199@ausveg.com.au
SUMMARY:Science Protecting Plant Health 2017 (Brisbane)
DESCRIPTION:Science Protecting Plant Health\, a joint conference being held by the Australasian Plant Pathology Society and the Plant Biosecurity Cooperative Research Centre\, is being held at the Brisbane Convention Centre from 26–28 September 2017. \nThe conference will focus on the latest science\, research and practice\, with presenters from Australian and international experts in all the disciplines of plant biosecurity\, plant pathology and entomology. There will also be field days and a series of workshops held as part of the conference. \nFor more information\, please see the event website.
URL:https://ausveg.com.au/event/science-protecting-plant-health-2017-brisbane/
LOCATION:Brisbane Convention & Exhibition Centre\, Merivale St & Glenelg Street\, Brisbane\, QLD\, 4101\, Australia
CATEGORIES:QLD
ORGANIZER;CN="Plant Biosecurity CRC":MAILTO:info@pbcrc.com.au
END:VEVENT
BEGIN:VEVENT
DTSTART;TZID=Australia/Melbourne:20170926T084500
DTEND;TZID=Australia/Melbourne:20170926T160000
DTSTAMP:20260422T212432
CREATED:20170912T072414Z
LAST-MODIFIED:20170913T230128Z
UID:10000493-1506415500-1506441600@ausveg.com.au
SUMMARY:Workshop: Workplace Essentials (Gayndah)
DESCRIPTION:Enrol now to attend a  Workplace Essentials workshop and get the information and resources you need to boost your farm business’ health\, safety and people management skills. \nThese workshops are being funded the Queensland Government and facilitated by the Queensland Agriculture Workforce Network (QAWN). They have been specifically tailored for farm managers\, team leaders and supervisors and will include practical activities. \nDuring the full day workshops\, the following topics will be covered: \nSESSION ONE: Workplace health and safety\n• Update on Workplace Health and Safety laws and regulations\n• WHS compliance checklist\n• Understanding and managing risks and hazards\n• When and how and to report incidents\n• Overview of useful WHS services and resources available to businesses \nSESSION TWO: People management\n• Performance and behaviour management\n• Handling conflict\, bullying and difficult conversations in the workplace\n• Supervisor responsibilities\n• Update on workplace relations laws\, regulations and programs\n• Overview of further training and funding available \nCOST:\n$30 per person – includes workshop\, resources\, morning and afternoon tea\, and lunch.
URL:https://ausveg.com.au/event/workshop-workplace-essentials-gayndah/
LOCATION:SES training rooms – Gayndah Conference and Training Centre\, Pineapple Street\, Gayndah\, QLD\, 4625\, Australia
CATEGORIES:QLD
ORGANIZER;CN="Growcom":MAILTO:growcom@growcom.com.au
END:VEVENT
BEGIN:VEVENT
DTSTART;TZID=Australia/Melbourne:20170927T084500
DTEND;TZID=Australia/Melbourne:20170927T160000
DTSTAMP:20260422T212432
CREATED:20170912T064953Z
LAST-MODIFIED:20170922T062447Z
UID:10000487-1506501900-1506528000@ausveg.com.au
SUMMARY:Workshop: Workplace Essentials (Bundaberg)
DESCRIPTION:Enrol now to attend a  Workplace Essentials workshop and get the information and resources you need to boost your farm business’ health\, safety and people management skills. \nThese workshops are being funded the Queensland Government and facilitated by the Queensland Agriculture Workforce Network (QAWN). They have been specifically tailored for farm managers\, team leaders and supervisors and will include practical activities. \nDuring the full day workshops\, the following topics will be covered: \nSESSION ONE: Workplace health and safety\n• Update on Workplace Health and Safety laws and regulations\n• WHS compliance checklist\n• Understanding and managing risks and hazards\n• When and how and to report incidents\n• Overview of useful WHS services and resources available to businesses \nSESSION TWO: People management\n• Performance and behaviour management\n• Handling conflict\, bullying and difficult conversations in the workplace\n• Supervisor responsibilities\n• Update on workplace relations laws\, regulations and programs\n• Overview of further training and funding available \nCOST:\n$30 per person – includes workshop\, resources\, morning and afternoon tea\, and lunch.
URL:https://ausveg.com.au/event/workshop-workplace-essentials-qld-4/
LOCATION:Bundaberg School of Arts\, 184 Bourbong Street\, Bundaberg\, QLD\, 4670\, Australia
CATEGORIES:QLD
ORGANIZER;CN="Growcom":MAILTO:growcom@growcom.com.au
END:VEVENT
END:VCALENDAR