BEGIN:VCALENDAR
VERSION:2.0
PRODID:-//AUSVEG - ECPv6.10.3//NONSGML v1.0//EN
CALSCALE:GREGORIAN
METHOD:PUBLISH
X-ORIGINAL-URL:https://ausveg.com.au
X-WR-CALDESC:Events for AUSVEG
REFRESH-INTERVAL;VALUE=DURATION:PT1H
X-Robots-Tag:noindex
X-PUBLISHED-TTL:PT1H
BEGIN:VTIMEZONE
TZID:Australia/Melbourne
BEGIN:STANDARD
TZOFFSETFROM:+1100
TZOFFSETTO:+1000
TZNAME:AEST
DTSTART:20170401T160000
END:STANDARD
BEGIN:DAYLIGHT
TZOFFSETFROM:+1000
TZOFFSETTO:+1100
TZNAME:AEDT
DTSTART:20170930T160000
END:DAYLIGHT
END:VTIMEZONE
BEGIN:VTIMEZONE
TZID:Australia/Brisbane
BEGIN:STANDARD
TZOFFSETFROM:+1000
TZOFFSETTO:+1000
TZNAME:AEST
DTSTART:20170101T000000
END:STANDARD
END:VTIMEZONE
BEGIN:VEVENT
DTSTART;VALUE=DATE:20171111
DTEND;VALUE=DATE:20171119
DTSTAMP:20260422T150510
CREATED:20171009T021415Z
LAST-MODIFIED:20171009T021438Z
UID:10000471-1510358400-1511049599@ausveg.com.au
SUMMARY:Australian Food Safety Week
DESCRIPTION:The theme of Australian Food Safety Week 2017 is ‘Is it done yet? Use a thermometer for great food\, cooked safely every time’ and it will be held from 11-18 November 2017. \nFor more information on Australian Food Safety Week and how to get involved\, please see the event website.
URL:https://ausveg.com.au/event/australian-food-safety-week/
LOCATION:QLD
CATEGORIES:ACT,VIC,NSW,QLD,NT,WA,TAS,SA
END:VEVENT
BEGIN:VEVENT
DTSTART;TZID=Australia/Brisbane:20171114T084500
DTEND;TZID=Australia/Brisbane:20171114T160000
DTSTAMP:20260422T150510
CREATED:20170915T015227Z
LAST-MODIFIED:20170915T015227Z
UID:10000451-1510649100-1510675200@ausveg.com.au
SUMMARY:Workshop: Workplace Essentials (Caboolture)
DESCRIPTION:Enrol now to attend a  Workplace Essentials workshop and get the information and resources you need to boost your farm business’ health\, safety and people management skills. \nThese workshops are being funded the Queensland Government and facilitated by the Queensland Agriculture Workforce Network (QAWN). They have been specifically tailored for farm managers\, team leaders and supervisors and will include practical activities. \nDuring the full day workshops\, the following topics will be covered: \nSESSION ONE: Workplace health and safety\n• Update on Workplace Health and Safety laws and regulations\n• WHS compliance checklist\n• Understanding and managing risks and hazards\n• When and how and to report incidents\n• Overview of useful WHS services and resources available to businesses \nSESSION TWO: People management\n• Performance and behaviour management\n• Handling conflict\, bullying and difficult conversations in the workplace\n• Supervisor responsibilities\n• Update on workplace relations laws\, regulations and programs\n• Overview of further training and funding available \nCOST:\n$30 per person – includes workshop\, resources\, morning and afternoon tea\, and lunch.
URL:https://ausveg.com.au/event/workshop-workplace-essentials-caboolture/
LOCATION:Caboolture Hub\, 4 Hasking St\, Caboolture\, QLD\, 4510\, Australia
CATEGORIES:QLD
ORGANIZER;CN="Growcom":MAILTO:growcom@growcom.com.au
END:VEVENT
BEGIN:VEVENT
DTSTART;TZID=Australia/Brisbane:20171114T143000
DTEND;TZID=Australia/Brisbane:20171114T170000
DTSTAMP:20260422T150510
CREATED:20171031T223336Z
LAST-MODIFIED:20171031T223336Z
UID:10000614-1510669800-1510678800@ausveg.com.au
SUMMARY:Workshop: Biosecurity update (Bowen)
DESCRIPTION:As part of the VegNET project being delivered in Bowen\, Gumlu and Far North Queensland by Bowen Gumlu Growers Association\, a workshop is being held to provide local growers with updates in key biosecurity projects that are receiving investment from the Hort Innovation Vegetable Fund. \nThis event will include two key speakers: Dr Paul Walker (TIA)\, discussing the TPP incursion in Western Australia and the strategic levy investment into surveillance efforts in South Australia and the eastern states; and Dr Jessica Lye (AUSVEG)\, providing an update on the newly launched strategic levy investment project preparing the industry for an incursion of vegetable leafminer into production areas. \nJessica Volker from Prospect Ag will also present at the workshop. For more information\, please see the event flyer. \nTo register for this event\, please click here.
URL:https://ausveg.com.au/event/workshop-biosecurity-update-bowen/
LOCATION:QDAF Bowen\, 45 Warwick Road\, Bowen\, QLD\, 4805\, Australia
CATEGORIES:QLD,VegNET
END:VEVENT
END:VCALENDAR