BEGIN:VCALENDAR
VERSION:2.0
PRODID:-//AUSVEG - ECPv6.10.3//NONSGML v1.0//EN
CALSCALE:GREGORIAN
METHOD:PUBLISH
X-WR-CALNAME:AUSVEG
X-ORIGINAL-URL:https://ausveg.com.au
X-WR-CALDESC:Events for AUSVEG
REFRESH-INTERVAL;VALUE=DURATION:PT1H
X-Robots-Tag:noindex
X-PUBLISHED-TTL:PT1H
BEGIN:VTIMEZONE
TZID:Australia/Brisbane
BEGIN:STANDARD
TZOFFSETFROM:+1000
TZOFFSETTO:+1000
TZNAME:AEST
DTSTART:20170101T000000
END:STANDARD
END:VTIMEZONE
BEGIN:VTIMEZONE
TZID:Australia/Melbourne
BEGIN:STANDARD
TZOFFSETFROM:+1100
TZOFFSETTO:+1000
TZNAME:AEST
DTSTART:20170401T160000
END:STANDARD
BEGIN:DAYLIGHT
TZOFFSETFROM:+1000
TZOFFSETTO:+1100
TZNAME:AEDT
DTSTART:20170930T160000
END:DAYLIGHT
END:VTIMEZONE
BEGIN:VEVENT
DTSTART;VALUE=DATE:20171120
DTEND;VALUE=DATE:20171123
DTSTAMP:20260422T131021
CREATED:20170919T041211Z
LAST-MODIFIED:20171009T033553Z
UID:10000556-1511136000-1511395199@ausveg.com.au
SUMMARY:TropAg2017 (Brisbane)
DESCRIPTION:TropAg2017 brings together the best in research and innovation across plant\, animal and food sciences. TropAg2017 focuses on science and technology solutions across the agriculture and food supply chain\, including technology and investment. Now incorporating the agricultural technology AgFutures conference\, TropAg is held in Brisbane\, Australia. \nTropAg2017 is for anyone concerned with addressing the many challenges in tropical and sub-tropical agriculture and food production. The 2017 conference theme is “high impact science to nourish the world”\, reflecting the critical role of science\, technology and innovation to the many challenges facing tropical and sub-tropical agriculture and food production globally. \nFor more information\, see the event website.
URL:https://ausveg.com.au/event/tropag2017/
LOCATION:Brisbane Convention & Exhibition Centre\, Merivale St & Glenelg Street\, Brisbane\, QLD\, 4101\, Australia
CATEGORIES:QLD
END:VEVENT
BEGIN:VEVENT
DTSTART;TZID=Australia/Brisbane:20171122T084500
DTEND;TZID=Australia/Brisbane:20171122T160000
DTSTAMP:20260422T131021
CREATED:20170915T015354Z
LAST-MODIFIED:20170915T015354Z
UID:10000452-1511340300-1511366400@ausveg.com.au
SUMMARY:Workshop: Workplace Essentials (Logan)
DESCRIPTION:Enrol now to attend a  Workplace Essentials workshop and get the information and resources you need to boost your farm business’ health\, safety and people management skills. \nThese workshops are being funded the Queensland Government and facilitated by the Queensland Agriculture Workforce Network (QAWN). They have been specifically tailored for farm managers\, team leaders and supervisors and will include practical activities. \nDuring the full day workshops\, the following topics will be covered: \nSESSION ONE: Workplace health and safety\n• Update on Workplace Health and Safety laws and regulations\n• WHS compliance checklist\n• Understanding and managing risks and hazards\n• When and how and to report incidents\n• Overview of useful WHS services and resources available to businesses \nSESSION TWO: People management\n• Performance and behaviour management\n• Handling conflict\, bullying and difficult conversations in the workplace\n• Supervisor responsibilities\n• Update on workplace relations laws\, regulations and programs\n• Overview of further training and funding available \nCOST:\n$30 per person – includes workshop\, resources\, morning and afternoon tea\, and lunch.
URL:https://ausveg.com.au/event/workshop-workplace-essentials-logan/
LOCATION:TBA
CATEGORIES:QLD
ORGANIZER;CN="Growcom":MAILTO:growcom@growcom.com.au
END:VEVENT
BEGIN:VEVENT
DTSTART;TZID=Australia/Melbourne:20171122T123000
DTEND;TZID=Australia/Melbourne:20171122T133000
DTSTAMP:20260422T131021
CREATED:20171008T224843Z
LAST-MODIFIED:20171008T224843Z
UID:10000467-1511353800-1511357400@ausveg.com.au
SUMMARY:Webinar: Soil and nutrition management
DESCRIPTION:Join an informative and interactive one-hour lunchtime session to get the latest updates from vegetable industry experts on healthy soil and correct nutrition management\, which are essential to a productive vegetable business and protecting the natural environment. While the focus will be on nitrogen\, the team can also answer your questions about other nutrients during the discussion. \nThe webinar\, to be delivered by Dr Doris Blaesing (RMCG) and Andrew Shaw (AUSVEG)\, will offer a unique insight into how to manage vegetable soils and nutrition with a focus on environmental and economic sustainability. Growers Belinda Adams and David Anderson will also share the main benefits from being involved in the EnviroVeg program. \nFor more information on this webinar\, please click here. To register for the webinar\, please click here. \nThis session is being delivered as a collaboration between the Soil Wealth and Integrated Crop Protection projects (delivered by RMCG and AHR) and the EnviroVeg program (delivered through AUSVEG in partnership with Growcom and Freshcare)\, which are strategic levy investments under the Hort Innovation Vegetable Fund.
URL:https://ausveg.com.au/event/webinar-soil-nutrition-management/
LOCATION:QLD
CATEGORIES:ACT,VIC,NSW,QLD,NT,WA,TAS,SA
END:VEVENT
END:VCALENDAR