BEGIN:VCALENDAR
VERSION:2.0
PRODID:-//AUSVEG - ECPv6.10.3//NONSGML v1.0//EN
CALSCALE:GREGORIAN
METHOD:PUBLISH
X-WR-CALNAME:AUSVEG
X-ORIGINAL-URL:https://ausveg.com.au
X-WR-CALDESC:Events for AUSVEG
REFRESH-INTERVAL;VALUE=DURATION:PT1H
X-Robots-Tag:noindex
X-PUBLISHED-TTL:PT1H
BEGIN:VTIMEZONE
TZID:Australia/Brisbane
BEGIN:STANDARD
TZOFFSETFROM:+1000
TZOFFSETTO:+1000
TZNAME:AEST
DTSTART:20170101T000000
END:STANDARD
END:VTIMEZONE
BEGIN:VEVENT
DTSTART;TZID=Australia/Brisbane:20171219T120000
DTEND;TZID=Australia/Brisbane:20171219T160000
DTSTAMP:20260422T163649
CREATED:20171130T032645Z
LAST-MODIFIED:20171130T032645Z
UID:10000501-1513684800-1513699200@ausveg.com.au
SUMMARY:Workshop: Water use & efficiency (Eudlo)
DESCRIPTION:The Flower Association of Queensland with Growcom\, NGIQ and the QFF Energy Savers Program invite industry members to a field day about Water and Energy Efficiency for horticulture\, nursery and floriculture. The free field day will provide a comprehensive insight to growers about ways in which they can monitor and improve their water and energy efficiency. \nFor more information\, please see the QFF website.
URL:https://ausveg.com.au/event/workshop-water-use-efficiency-eudlo/
LOCATION:Djirang Plantation\, 95 Mossybank Rd\, Eudlo\, QLD\, 4554\, Australia
CATEGORIES:QLD
END:VEVENT
END:VCALENDAR