BEGIN:VCALENDAR
VERSION:2.0
PRODID:-//AUSVEG - ECPv6.10.3//NONSGML v1.0//EN
CALSCALE:GREGORIAN
METHOD:PUBLISH
X-WR-CALNAME:AUSVEG
X-ORIGINAL-URL:https://ausveg.com.au
X-WR-CALDESC:Events for AUSVEG
REFRESH-INTERVAL;VALUE=DURATION:PT1H
X-Robots-Tag:noindex
X-PUBLISHED-TTL:PT1H
BEGIN:VTIMEZONE
TZID:UTC
BEGIN:STANDARD
TZOFFSETFROM:+0000
TZOFFSETTO:+0000
TZNAME:UTC
DTSTART:20180101T000000
END:STANDARD
END:VTIMEZONE
BEGIN:VTIMEZONE
TZID:Australia/Brisbane
BEGIN:STANDARD
TZOFFSETFROM:+1000
TZOFFSETTO:+1000
TZNAME:AEST
DTSTART:20180101T000000
END:STANDARD
END:VTIMEZONE
BEGIN:VEVENT
DTSTART;TZID=UTC:20180322T123000
DTEND;TZID=UTC:20180322T133000
DTSTAMP:20260420T062418
CREATED:20180319T053144Z
LAST-MODIFIED:20180319T053144Z
UID:10000537-1521721800-1521725400@ausveg.com.au
SUMMARY:Biosecurity webinar
DESCRIPTION:Plant biosecurity is a series of measures that aid in protecting production areas from harmful insects\, weeds\, and various plant diseases. On-farm biosecurity best practices play a pivotal role in maintaining Australia’s reputation of producing high quality products. \nTo help you better understand on-farm biosecurity and how to implement practices on your farms that can protect you from damaging incursions\, the levy-funded VegNET program is hosting a free webinar with industry experts for vegetable growers. \nThis webinar will feature Dr Jessica Lye (AUSVEG)\, Greg Owens (NT Farmers) and growers speaking about what you should do to protect your farm through good hygiene and biosecurity management. \nTo register for this webinar\, click here. \nGrowers interested in learning more about biosecurity can also watch a VegNET video about cucumber green mottle mosaic virus in the Northern Territory and the biosecurity lessons learnt from the response to this virus. \nIf you’re interested in learning more about projects currently being delivered to support the Australian vegetable industry’s biosecurity\, visit the biosecurity and crop protection section of our website. \n 
URL:https://ausveg.com.au/event/biosecurity-webinar/
LOCATION:QLD
CATEGORIES:ACT,VIC,NSW,QLD,NT,WA,TAS,SA,VegNET
END:VEVENT
BEGIN:VEVENT
DTSTART;TZID=Australia/Brisbane:20180322T123000
DTEND;TZID=Australia/Brisbane:20180322T143000
DTSTAMP:20260420T062418
CREATED:20180305T032307Z
LAST-MODIFIED:20180305T032307Z
UID:10000689-1521721800-1521729000@ausveg.com.au
SUMMARY:HARPS workshop (Gatton)
DESCRIPTION:The Harmonised Australian Retailer Produce Scheme (HARPS) harmonises the additional food safety\, legal and trade requirements developed by the major Australian chain retailers into a single scheme. Certification to a recognised base scheme (such as Freshcare\, GLOBALG.A.P. or SQF) plus HARPS is now accepted by the five chain retailers\, eliminating the need for duplication and unnecessary costs. \nIf you want to know more about HARPS\, if your business requires HARPS approval\, how to implement HARPS\, how to register your interest in HARPS or where you can get additional support and guidance\, a series of workshops are being held around Australia to help you get the information you need. \nFor growers in other regions\, a pre-recorded webinar will be available on the HARPS website. \nIf you have any questions about HARPS\, please call 1300 852 219 or e-mail harps@harpsonline.com.au.
URL:https://ausveg.com.au/event/harps-workshop-gatton/
LOCATION:QDAF Gatton\, Warrego Highway\, Lawes\, QLD\, 4343\, Australia
CATEGORIES:QLD
END:VEVENT
END:VCALENDAR