BEGIN:VCALENDAR
VERSION:2.0
PRODID:-//AUSVEG - ECPv6.10.3//NONSGML v1.0//EN
CALSCALE:GREGORIAN
METHOD:PUBLISH
X-ORIGINAL-URL:https://ausveg.com.au
X-WR-CALDESC:Events for AUSVEG
REFRESH-INTERVAL;VALUE=DURATION:PT1H
X-Robots-Tag:noindex
X-PUBLISHED-TTL:PT1H
BEGIN:VTIMEZONE
TZID:Australia/Brisbane
BEGIN:STANDARD
TZOFFSETFROM:+1000
TZOFFSETTO:+1000
TZNAME:AEST
DTSTART:20260101T000000
END:STANDARD
END:VTIMEZONE
BEGIN:VEVENT
DTSTART;TZID=Australia/Brisbane:20260413T120000
DTEND;TZID=Australia/Brisbane:20260413T161500
DTSTAMP:20260420T064856
CREATED:20260331T030213Z
LAST-MODIFIED:20260331T030213Z
UID:10001228-1776081600-1776096900@ausveg.com.au
SUMMARY:QLD: Regenerating Soils: Biology\, Transition & Nutrient Efficiency
DESCRIPTION:A hands-on workshop with international soil expert Joel Williams\, exploring practical and science-based strategies to improve soil health\, boost productivity\, and build a more regenerative farming system.\nTopics include:\n\n\nSoil biology and soil organic matter science: Understand the processes that support healthy\, productive soils.\nSoils in transition: Strategies to transition towards regenerative agriculture\, and better soil health.\nIntegrated nutrient management: Low input strategies to improve fertiliser efficiencies and reduce input costs.\nSoil Wealth ICP demonstration site field walk at Mulgowie: Managing organic nitrogen sources from cover crops to match the nitrogen demand of sweet corn.\n\nWho this is for: This workshop is limited to 30 spots for vegetable growers and agronomists – registration is essential and growers and agronomists will be prioritised over those in the supply chain. \nBring Soil Samples & Tests: If you’re interested\, bring a sample of your soil so we can discuss structure and practical ways to look for life in your soil.
URL:https://ausveg.com.au/event/qld-regenerating-soils-biology-transition-nutrient-efficiency/
LOCATION:Mulgowie Farming Company\, 35 Mulgowie School Rd\, Mulgowie\, QLD\, 4341\, Australia
CATEGORIES:QLD,VegNET
ATTACH;FMTTYPE=image/png:https://ausveg.com.au/app/uploads/2026/03/Regenerating-Soils-Biology-Transition-Nutrient-Efficiency.png
END:VEVENT
BEGIN:VEVENT
DTSTART;TZID=Australia/Brisbane:20260423T140000
DTEND;TZID=Australia/Brisbane:20260423T170000
DTSTAMP:20260420T064856
CREATED:20260330T235010Z
LAST-MODIFIED:20260330T235010Z
UID:10001225-1776952800-1776963600@ausveg.com.au
SUMMARY:QLD: Emergency plant pest readiness for northern Queensland horticulture
DESCRIPTION:What happens when a new pest comes to a growing region and how can we all be better prepared and responsive? \nWhat you will learn \n\nWhat does a new pest detection mean for your farm and region?\nWho is involved in an emergency plant pest response?\nWhat is the decision making process during a response?\nRights and responsibilities and the General Biosecurity Duty\nWhat are the potential impacts on businesses and trade?\nOwner Reimbursement Costs\nHow to get prepared?\n\nThe workshop will be followed by dinner. \n  \nThe Vegetable industry biosecurity and business continuity strategy (VG22004) has been funded by Hort Innovation\, using the vegetable research and development levy and contributions from the Australian Government.
URL:https://ausveg.com.au/event/qld-emergency-plant-pest-readiness-for-northern-queensland-horticulture/
LOCATION:Merinda Village Hotel\, 13 Linley St\, Bowen\, QLD\, 4805\, Australia
CATEGORIES:QLD
ATTACH;FMTTYPE=image/png:https://ausveg.com.au/app/uploads/2026/03/Emergency-plant-pest-readiness-for-northern-Queensland-horticulture.png
ORGANIZER;CN="AUSVEG":MAILTO:info@ausveg.com.au
END:VEVENT
END:VCALENDAR