BEGIN:VCALENDAR
VERSION:2.0
PRODID:-//AUSVEG - ECPv6.10.3//NONSGML v1.0//EN
CALSCALE:GREGORIAN
METHOD:PUBLISH
X-WR-CALNAME:AUSVEG
X-ORIGINAL-URL:https://ausveg.com.au
X-WR-CALDESC:Events for AUSVEG
REFRESH-INTERVAL;VALUE=DURATION:PT1H
X-Robots-Tag:noindex
X-PUBLISHED-TTL:PT1H
BEGIN:VTIMEZONE
TZID:Australia/Melbourne
BEGIN:STANDARD
TZOFFSETFROM:+1100
TZOFFSETTO:+1000
TZNAME:AEST
DTSTART:20170401T160000
END:STANDARD
BEGIN:DAYLIGHT
TZOFFSETFROM:+1000
TZOFFSETTO:+1100
TZNAME:AEDT
DTSTART:20170930T160000
END:DAYLIGHT
END:VTIMEZONE
BEGIN:VEVENT
DTSTART;TZID=Australia/Melbourne:20171011T120000
DTEND;TZID=Australia/Melbourne:20171011T130000
DTSTAMP:20260420T074426
CREATED:20170925T034853Z
LAST-MODIFIED:20170925T035005Z
UID:10000561-1507723200-1507726800@ausveg.com.au
SUMMARY:Webinar: Risk assessment for pre-harvest water use
DESCRIPTION:Targeted at growers and Quality Assurance (QA) personnel\, this event has been specifically organised by the Fresh Produce Safety Centre Australia & New Zealand with direct input from the horticulture (fruit and vegetable) industry. \nFocusing on risk assessment of pre-harvest water\, speakers will discuss common pitfalls and corrective actions. Risk assessment is the identification of hazards and analysis of potential impacts\, and pre-harvest water includes all on-farm use of water\, up to the point of harvest. \nFor more information\, please see the flyer\, or to register for this webinar\, please click here.
URL:https://ausveg.com.au/event/webinar-risk-assessment-pre-harvest-water-use/
LOCATION:SA
CATEGORIES:ACT,VIC,NSW,QLD,NT,WA,TAS,SA
END:VEVENT
END:VCALENDAR