BEGIN:VCALENDAR
VERSION:2.0
PRODID:-//AUSVEG - ECPv6.10.3//NONSGML v1.0//EN
CALSCALE:GREGORIAN
METHOD:PUBLISH
X-ORIGINAL-URL:https://ausveg.com.au
X-WR-CALDESC:Events for AUSVEG
REFRESH-INTERVAL;VALUE=DURATION:PT1H
X-Robots-Tag:noindex
X-PUBLISHED-TTL:PT1H
BEGIN:VTIMEZONE
TZID:Australia/Melbourne
BEGIN:STANDARD
TZOFFSETFROM:+1100
TZOFFSETTO:+1000
TZNAME:AEST
DTSTART:20170401T160000
END:STANDARD
BEGIN:DAYLIGHT
TZOFFSETFROM:+1000
TZOFFSETTO:+1100
TZNAME:AEDT
DTSTART:20170930T160000
END:DAYLIGHT
END:VTIMEZONE
BEGIN:VEVENT
DTSTART;VALUE=DATE:20171121
DTEND;VALUE=DATE:20171122
DTSTAMP:20260420T083149
CREATED:20170913T010955Z
LAST-MODIFIED:20170913T231241Z
UID:10000527-1511222400-1511308799@ausveg.com.au
SUMMARY:National Agriculture Day
DESCRIPTION:National Farmers’ Federation President Fiona Simson and CEO Tony Mahar\, along with Deputy Prime Minister and Minister for Agriculture and Water Resources Barnaby Joyce\, have launched the National Agriculture and Related Industries Day (AgDay). \nTo be held on 21 November 2017\, AgDay will encourage all Australians to celebrate the nation’s farm sector and the work of our growers. For more information on National Agriculture Day\, and to learn how to get involved\, please see its website.
URL:https://ausveg.com.au/event/national-agriculture-day/
LOCATION:SA
CATEGORIES:ACT,VIC,NSW,QLD,NT,WA,TAS,SA
END:VEVENT
END:VCALENDAR