BEGIN:VCALENDAR
VERSION:2.0
PRODID:-//AUSVEG - ECPv6.10.3//NONSGML v1.0//EN
CALSCALE:GREGORIAN
METHOD:PUBLISH
X-ORIGINAL-URL:https://ausveg.com.au
X-WR-CALDESC:Events for AUSVEG
REFRESH-INTERVAL;VALUE=DURATION:PT1H
X-Robots-Tag:noindex
X-PUBLISHED-TTL:PT1H
BEGIN:VTIMEZONE
TZID:Australia/Melbourne
BEGIN:STANDARD
TZOFFSETFROM:+1100
TZOFFSETTO:+1000
TZNAME:AEST
DTSTART:20250405T160000
END:STANDARD
BEGIN:DAYLIGHT
TZOFFSETFROM:+1000
TZOFFSETTO:+1100
TZNAME:AEDT
DTSTART:20251004T160000
END:DAYLIGHT
END:VTIMEZONE
BEGIN:VEVENT
DTSTART;TZID=Australia/Melbourne:20251209T100000
DTEND;TZID=Australia/Melbourne:20251209T143000
DTSTAMP:20260421T072636
CREATED:20251118T224113Z
LAST-MODIFIED:20251118T224113Z
UID:10001133-1765274400-1765290600@ausveg.com.au
SUMMARY:TAS: Forthside Vegetable Research Facility Field Day
DESCRIPTION:Join us for a day of learning\, discussion\, and connection as we explore the latest research and practical insights supporting Tasmanian horticulture. \nThe program includes presentations on irrigation\, pest and disease management\, biosecurity\, and sustainable farming practices – designed to inform and inspire growers and industry professionals. \nAfter lunch join us for the field walks providing the opportunity to see the current research trials happening at the farm.
URL:https://ausveg.com.au/event/tas-forthside-vegetable-research-facility-field-day/
LOCATION:Forthside Vegetable Research Facility\, 124 Forthside Rd\, Forthside\, TAS\, 7310\, Australia
CATEGORIES:TAS
ATTACH;FMTTYPE=image/png:https://ausveg.com.au/app/uploads/2025/11/Forthside-Vegetable-Research-Facility-Field-Day.png
END:VEVENT
END:VCALENDAR