BEGIN:VCALENDAR
VERSION:2.0
PRODID:-//AUSVEG - ECPv6.10.3//NONSGML v1.0//EN
CALSCALE:GREGORIAN
METHOD:PUBLISH
X-ORIGINAL-URL:https://ausveg.com.au
X-WR-CALDESC:Events for AUSVEG
REFRESH-INTERVAL;VALUE=DURATION:PT1H
X-Robots-Tag:noindex
X-PUBLISHED-TTL:PT1H
BEGIN:VTIMEZONE
TZID:Australia/Melbourne
BEGIN:STANDARD
TZOFFSETFROM:+1100
TZOFFSETTO:+1000
TZNAME:AEST
DTSTART:20260404T160000
END:STANDARD
BEGIN:DAYLIGHT
TZOFFSETFROM:+1000
TZOFFSETTO:+1100
TZNAME:AEDT
DTSTART:20261003T160000
END:DAYLIGHT
END:VTIMEZONE
BEGIN:VEVENT
DTSTART;TZID=Australia/Melbourne:20260422T090000
DTEND;TZID=Australia/Melbourne:20260422T160000
DTSTAMP:20260420T051046
CREATED:20260331T003303Z
LAST-MODIFIED:20260331T003303Z
UID:10001227-1776848400-1776873600@ausveg.com.au
SUMMARY:TAS: Ag Innovation Expo 2026
DESCRIPTION:The 12th annual Ag Innovation Expo\, a showcase dedicated to agricultural machinery and technology. Experience live demonstrations in our onsite demo paddock and see equipment in action. \nEngage with diverse industry groups\, connect with fellow growers\, and network with key players in the field. Enjoy informative talks from expert speakers and a BBQ lunch. \nDon’t miss this opportunity to innovate\, collaborate\, and shape the future of agriculture!
URL:https://ausveg.com.au/event/tas-ag-innovation-expo-2026/
LOCATION:Hagley Farm School\, 2508 Meander Valley Road\, Hagley\, TAS\, 7292\, Australia
CATEGORIES:TAS
ATTACH;FMTTYPE=image/png:https://ausveg.com.au/app/uploads/2026/03/TAS-Ag-Innovation-Expo-2026.png
END:VEVENT
END:VCALENDAR