BEGIN:VCALENDAR
VERSION:2.0
PRODID:-//AUSVEG - ECPv6.10.3//NONSGML v1.0//EN
CALSCALE:GREGORIAN
METHOD:PUBLISH
X-ORIGINAL-URL:https://ausveg.com.au
X-WR-CALDESC:Events for AUSVEG
REFRESH-INTERVAL;VALUE=DURATION:PT1H
X-Robots-Tag:noindex
X-PUBLISHED-TTL:PT1H
BEGIN:VTIMEZONE
TZID:Australia/Melbourne
BEGIN:STANDARD
TZOFFSETFROM:+1100
TZOFFSETTO:+1000
TZNAME:AEST
DTSTART:20240406T160000
END:STANDARD
BEGIN:DAYLIGHT
TZOFFSETFROM:+1000
TZOFFSETTO:+1100
TZNAME:AEDT
DTSTART:20241005T160000
END:DAYLIGHT
END:VTIMEZONE
BEGIN:VEVENT
DTSTART;TZID=Australia/Melbourne:20240411T173000
DTEND;TZID=Australia/Melbourne:20240411T200000
DTSTAMP:20260420T114744
CREATED:20240212T032950Z
LAST-MODIFIED:20240212T032950Z
UID:10000919-1712856600-1712865600@ausveg.com.au
SUMMARY:Drone Spray Demonstration Night
DESCRIPTION:VegNET Gippsland\, Schreurs & Sons\, Syngenta and E.E. Muir & Sons would like to invite you to a Spray Demonstration Night and BBQ at Schreurs’ Tarwin Farm on Thursday\, April 11th. The night will showcase both drone and tractor mounted spray applications on vegetable crops.  Limited capacity\, register now!
URL:https://ausveg.com.au/event/drone-spray-demonstration-night/
LOCATION:935\, 935 Tarwin Lower Road\, Middle Tarwin\, Australia
CATEGORIES:VIC,VegNET
ATTACH;FMTTYPE=image/png:https://ausveg.com.au/app/uploads/2024/02/spray-demo-night.png
ORGANIZER;CN="VegNET East Gippsland":MAILTO:shayne.hyman@eastgippslandfoodcluster.com.au
END:VEVENT
BEGIN:VEVENT
DTSTART;VALUE=DATE:20240417
DTEND;VALUE=DATE:20240420
DTSTAMP:20260420T114744
CREATED:20240129T022112Z
LAST-MODIFIED:20240129T022112Z
UID:10000909-1713312000-1713571199@ausveg.com.au
SUMMARY:FutureAG Expo - Melbourne
DESCRIPTION:FutureAg Expo 2024 Powered by Agritechnica will be an exciting exhibition\, sales and networking opportunity for: suppliers of agricultural and agro-industrial products\, services and technology serving the markets of Australia\, New Zealand and Asia Pacific. Manufacturers\, producers\, importers and distributors of products and services related to agricultural\, aquacultural\, horticultural\, livestock processes. \nWHEN \nThe show will be held across three days annually commencing Wednesday\, 17 April – Friday\, 19 April 2024. Open to the industry 8.30am to 4.30pm (Wednesday and Thursday) and 8.30am to 4.00pm (Friday). \nWHERE \nThis inaugural event will be at Melbourne Showgrounds\, Ascot Vale\, Victoria\, Australia – the largest participation rate in events in Victoria\, the largest exporting state of agricultural products in Australia.
URL:https://ausveg.com.au/event/futureag-expo-melbourne/
LOCATION:Melbourne Showgrounds\, Epsom Rd\, Ascot Vake\, VIC\, 3032\, Australia
CATEGORIES:VIC
ATTACH;FMTTYPE=image/png:https://ausveg.com.au/app/uploads/2024/01/furtureag-expo.png
END:VEVENT
BEGIN:VEVENT
DTSTART;TZID=Australia/Melbourne:20240418T103000
DTEND;TZID=Australia/Melbourne:20240418T143000
DTSTAMP:20260420T114744
CREATED:20240402T044153Z
LAST-MODIFIED:20240402T044153Z
UID:10000947-1713436200-1713450600@ausveg.com.au
SUMMARY:Greening Farm Dams Field Day
DESCRIPTION:Enhancing farm dams for stock and biodiversity: What difference does a year make? \nCome and see the changes that have occurred since Jillian Staton & Bruce Whittaker altered their farm dam to restrict stock access for productivity and biodiversity outcomes. \nWe will discuss the results of monitoring to compare the impacts of  three different farm management systems (restricted\, total stock exclusion and unrestricted access) on: \n\nwater quality\nmacroinvertebrate (waterbug) levels\nfrogs\, wildlife and pest species.\n\nWe will also hear about: \n\nthe role farm dams can play in native fish conservation strategies\nmanaging vegetation around farm dams\, including azola and phragmites.\n\nPresenters include: \n\nJillian Staton: a landholder’s perspective\nTy Matthews (Deakin University) & students Jasper Davis and Balin Branch-Spence\nDavid Carew (Carew Environmental)\nMatt Bowler (WGCMA)\n\n\nLunch included
URL:https://ausveg.com.au/event/greening-farm-dams-field-day/
LOCATION:Cape Liptrap\, Tarwin Lower\, VIC\, 3956\, Australia
CATEGORIES:VIC
ATTACH;FMTTYPE=image/png:https://ausveg.com.au/app/uploads/2024/04/Screenshot-2024-04-02-154108.png
END:VEVENT
BEGIN:VEVENT
DTSTART;TZID=Australia/Melbourne:20240427T183000
DTEND;TZID=Australia/Melbourne:20240427T230000
DTSTAMP:20260420T114744
CREATED:20240131T035342Z
LAST-MODIFIED:20240131T035342Z
UID:10000913-1714242600-1714258800@ausveg.com.au
SUMMARY:AUSVEG VIC Annual Awards for Excellence Dinner
DESCRIPTION:Sponsored by E.E. Muir and Sons – The AUSVEG VIC Awards for Excellence event shines the spotlight on some of the highest achieving Victorian vegetable growers in the industry.
URL:https://ausveg.com.au/event/ausveg-vic-annual-awards-for-excellence-dinner/
LOCATION:Pullman Melbourne on the Park\, 192 Wellington Parade\, East Melbourne\, VIC\, 3002\, Australia
CATEGORIES:VIC
ATTACH;FMTTYPE=image/png:https://ausveg.com.au/app/uploads/2024/01/ausveg-vic-awards-for-excellence.png
ORGANIZER;CN="AUSVEG VIC":MAILTO:info@ausvegvic.com.au
END:VEVENT
END:VCALENDAR