BEGIN:VCALENDAR
VERSION:2.0
PRODID:-//AUSVEG - ECPv6.10.3//NONSGML v1.0//EN
CALSCALE:GREGORIAN
METHOD:PUBLISH
X-WR-CALNAME:AUSVEG
X-ORIGINAL-URL:https://ausveg.com.au
X-WR-CALDESC:Events for AUSVEG
REFRESH-INTERVAL;VALUE=DURATION:PT1H
X-Robots-Tag:noindex
X-PUBLISHED-TTL:PT1H
BEGIN:VTIMEZONE
TZID:Australia/Melbourne
BEGIN:STANDARD
TZOFFSETFROM:+1100
TZOFFSETTO:+1000
TZNAME:AEST
DTSTART:20240406T160000
END:STANDARD
BEGIN:DAYLIGHT
TZOFFSETFROM:+1000
TZOFFSETTO:+1100
TZNAME:AEDT
DTSTART:20241005T160000
END:DAYLIGHT
END:VTIMEZONE
BEGIN:VEVENT
DTSTART;VALUE=DATE:20240504
DTEND;VALUE=DATE:20240506
DTSTAMP:20260420T171010
CREATED:20240312T004844Z
LAST-MODIFIED:20240312T004844Z
UID:10000942-1714780800-1714953599@ausveg.com.au
SUMMARY:The Great Trentham Spudfest
DESCRIPTION:This year marks the 16th iteration of the popular community festival that brings together local potato growers\, artisans\, music\, food vendors\, and local history to showcase the region’s finest offerings and products across the weekend of 4-5 May 2024.
URL:https://ausveg.com.au/event/the-great-trentham-spudfest/
LOCATION:Trentham\, Trentham\, Australia
CATEGORIES:VIC
ATTACH;FMTTYPE=image/png:https://ausveg.com.au/app/uploads/2024/03/Screenshot-2024-03-12-114752.png
END:VEVENT
BEGIN:VEVENT
DTSTART;VALUE=DATE:20240517
DTEND;VALUE=DATE:20240519
DTSTAMP:20260420T171010
CREATED:20240506T043011Z
LAST-MODIFIED:20240506T043011Z
UID:10000955-1715904000-1716076799@ausveg.com.au
SUMMARY:Mildura Field Days
DESCRIPTION:Sunraysia’s viticulture industries have united to host a sideline agtech demonstration event at the Mildura Field Days on Friday 17 May from 2pm-4:30pm (Mildura Racecourse). \nThe exhibitors will present on autonomous vehicles with multi-use applications\, plant sensors for irrigation management\, postharvest packaging and cool chain monitoring solutions\, pest/disease management options\, and operations/labour management tools. \n  \nProposed demonstrations are: \n\n\n\nAutonomous robot with selective weed spraying  – Burro\, AME\n\n\nVariable rate sprayer – Agriculture Victoria\n\n\nAutonomous tractor – Oxin\, Smart Machines & Duxton\n\n\nLidar-guided pruning – La Trobe University & DFA\n\n\nAutonomous tractor-   Go Track \, AME\n\n\n\n  \nOther exhibitors include: \n\n\n\nInfra-red plant sensors- Athena IR\n\n\nReal time cool chain monitoring – Real Time Data Loggers\n\n\nDigital farm management – Fieldin\n\n\nDigital picking management and product traceability – AgPick\n\n\nAutonomous\, real time fruit fly detection  – Rapid Aim\n\n\nFruit packing robot – WootZano\n\n\n\n  \nAdmission to the Field Days is $10 \nFor further information on the Mildura Field Days go to: Mildura Field Days – Home
URL:https://ausveg.com.au/event/mildura-field-days/
LOCATION:Mildura Racecourse
CATEGORIES:VIC
ATTACH;FMTTYPE=image/png:https://ausveg.com.au/app/uploads/2024/05/mildura-field-days.png
END:VEVENT
BEGIN:VEVENT
DTSTART;VALUE=DATE:20240519
DTEND;VALUE=DATE:20240525
DTSTAMP:20260420T171010
CREATED:20231212T044513Z
LAST-MODIFIED:20231212T044513Z
UID:10000899-1716076800-1716595199@ausveg.com.au
SUMMARY:IFPA Produce Executive Program
DESCRIPTION:Leadership program for managers and high performers across the supply chain of the fruit\, vegetable\, flower\, nut and nursery industries in Australia and New Zealand. \nThe International Fresh Produce Assocation (IFPA) Produce Executive Program is a fully residential business school style executive program with a unique blend of skill development\, industry learning and networking led by world class teachers alongside senior industry leaders. The format contains a mix of interactive lectures\, syndicate groups\, case studies\, group assignment workshops and industry discussion sessions. \nWHO SHOULD ATTEND: \nMiddle to senior managers across the supply chain and from all segments of the fruit\, vegetable\, flower\, nut and nursery industries in Australia and New Zealand. The program is limited to a maximum of 42 participants.
URL:https://ausveg.com.au/event/ifpa-produce-executive-program/
LOCATION:Waurn Ponds Deakin University Geelong Campus\, 75 Pigdons Rd\, Waurn Ponds\, VIC\, 3216\, Australia
CATEGORIES:VIC
ATTACH;FMTTYPE=image/png:https://ausveg.com.au/app/uploads/2023/12/IFPA-Leadership.png
END:VEVENT
BEGIN:VEVENT
DTSTART;TZID=Australia/Melbourne:20240531T180000
DTEND;TZID=Australia/Melbourne:20240531T223000
DTSTAMP:20260420T171010
CREATED:20240129T022605Z
LAST-MODIFIED:20240229T224307Z
UID:10000910-1717178400-1717194600@ausveg.com.au
SUMMARY:Gippsland Food and Fibre Awards 2024 - Celebratory Dinner
DESCRIPTION:Join us\, along with our event sponsors\, for a night of celebration as we announce this year’s winners of the Gippsland Food and Fibre Awards! \nEnjoy live music and great company in the heart of Gippsland\, with a delicious menu featuring the trusted provenance of our region. \nPresentations will be made throughout the evening. \nTickets are a fixed price of $95.00 per delegate\, which includes complimentary drinks on arrival and a three-course meal. \nIf you have questions regarding the celebratory dinner\, please contact Deanne Kennedy\, Jaydee Events: mobile 0419 878 055 or email deanne@jaydee.net.au. \nTickets are strictly limited – secure your place for this premier food and fibre event!
URL:https://ausveg.com.au/event/gippsland-food-and-fibre-awards-2024-celebratory-dinner/
LOCATION:Maffco Brewery and Taphouse\, Railway Place\, MaffraMaffra\, VIC\, 3860\, Australia
CATEGORIES:VIC
ATTACH;FMTTYPE=image/jpeg:https://ausveg.com.au/app/uploads/2024/01/65b1af39d441c0f3b409ae52.jpg
END:VEVENT
END:VCALENDAR