BEGIN:VCALENDAR
VERSION:2.0
PRODID:-//AUSVEG - ECPv6.10.3//NONSGML v1.0//EN
CALSCALE:GREGORIAN
METHOD:PUBLISH
X-WR-CALNAME:AUSVEG
X-ORIGINAL-URL:https://ausveg.com.au
X-WR-CALDESC:Events for AUSVEG
REFRESH-INTERVAL;VALUE=DURATION:PT1H
X-Robots-Tag:noindex
X-PUBLISHED-TTL:PT1H
BEGIN:VTIMEZONE
TZID:Australia/Melbourne
BEGIN:STANDARD
TZOFFSETFROM:+1100
TZOFFSETTO:+1000
TZNAME:AEST
DTSTART:20240406T160000
END:STANDARD
BEGIN:DAYLIGHT
TZOFFSETFROM:+1000
TZOFFSETTO:+1100
TZNAME:AEDT
DTSTART:20241005T160000
END:DAYLIGHT
END:VTIMEZONE
BEGIN:VEVENT
DTSTART;TZID=Australia/Melbourne:20240710T110000
DTEND;TZID=Australia/Melbourne:20240710T140000
DTSTAMP:20260421T170950
CREATED:20240618T012112Z
LAST-MODIFIED:20240618T012112Z
UID:10000966-1720609200-1720620000@ausveg.com.au
SUMMARY:Winter Warmers Seminar: Integrated Pest Management (IPM) in vegetables
DESCRIPTION:Entomologist Dr. Paul Horne with describe what IPM in vegetables looks like and how growers can move from a reliance on pesticides to using a combination of biological and cultural controls with support from selective pesticides. The workshop will provide an analysis of key biological control agents and cultural options\, with participants developing an IPM strategy for their crops during the workshop. \n  \nAustral Hotel\, Korumburra: Wed July 10th from 11am to 2pm (lunch included) \n  \nTo register for the Seminar Series\, please email emily.scott@foodandfibregippsland.com.au \nPlease advise of any dietary requirements when you register. \n  \nSession sponsored by BASF and Muirs
URL:https://ausveg.com.au/event/winter-warmers-seminar-integrated-pest-management-ipm-in-vegetables/
LOCATION:Austral Hotel\, Korumburra
CATEGORIES:VIC,VegNET
END:VEVENT
BEGIN:VEVENT
DTSTART;TZID=Australia/Melbourne:20240711T110000
DTEND;TZID=Australia/Melbourne:20240711T140000
DTSTAMP:20260421T170950
CREATED:20240618T012239Z
LAST-MODIFIED:20240618T012252Z
UID:10000967-1720695600-1720706400@ausveg.com.au
SUMMARY:Winter Warmers Seminar: Integrated Pest Management (IPM) in vegetables
DESCRIPTION:Entomologist Dr. Paul Horne with describe what IPM in vegetables looks like and how growers can move from a reliance on pesticides to using a combination of biological and cultural controls with support from selective pesticides. The workshop will provide an analysis of key biological control agents and cultural options\, with participants developing an IPM strategy for their crops during the workshop. \n  \nThe Criterion Hotel\, Sale: Thurs July 11th from 11am to 2pm (lunch included) \n  \nTo register for the Seminar Series\, please email emily.scott@foodandfibregippsland.com.au \nPlease advise of any dietary requirements when you register. \n  \nSession sponsored by BASF and Muirs
URL:https://ausveg.com.au/event/winter-warmers-seminar-integrated-pest-management-ipm-in-vegetables-2/
LOCATION:The Criterion Hotel\, Sale
CATEGORIES:VIC,VegNET
END:VEVENT
BEGIN:VEVENT
DTSTART;VALUE=DATE:20240723
DTEND;VALUE=DATE:20240726
DTSTAMP:20260421T170950
CREATED:20240529T031932Z
LAST-MODIFIED:20240529T031932Z
UID:10000962-1721692800-1721951999@ausveg.com.au
SUMMARY:Hydroponic Farmers Federation Conference 2024
DESCRIPTION:The Hydroponic Farmers Federation Executive Committee are excited to announce the 13th Biennial HFF Conference will be held from Tuesday 23rd July – Thursday 25th July\, 2024 at Tabcorp Park in Melton. \nFollowing the successful outcomes of the 2022 conference\, we are very confident of repeating this experience. In fact\, with the knowledge gained\, we can’t wait to present the 2024 conference! We will continue to expand and develop the conference format for 2024\, offering our trade members the opportunity to invite their grower customers to conference\, to learn\, share and network with like-minded people; potentially extending the reach of this conference far beyond previous events\, and throwing the conference doors open to non-HFF members. \nJohn Elford\, President on behalf of the HFF Executive Committee
URL:https://ausveg.com.au/event/hydroponic-farmers-federation-conference-2024/
LOCATION:Tabcorp Park Melton\, 2 Ferris Rd\, Melton\, VIC\, Australia
CATEGORIES:VIC
ATTACH;FMTTYPE=image/jpeg:https://ausveg.com.au/app/uploads/2024/05/05_ASN_HFF_Banner_1920x1080.jpg
END:VEVENT
END:VCALENDAR