BEGIN:VCALENDAR
VERSION:2.0
PRODID:-//AUSVEG - ECPv6.10.3//NONSGML v1.0//EN
CALSCALE:GREGORIAN
METHOD:PUBLISH
X-WR-CALNAME:AUSVEG
X-ORIGINAL-URL:https://ausveg.com.au
X-WR-CALDESC:Events for AUSVEG
REFRESH-INTERVAL;VALUE=DURATION:PT1H
X-Robots-Tag:noindex
X-PUBLISHED-TTL:PT1H
BEGIN:VTIMEZONE
TZID:Australia/Melbourne
BEGIN:STANDARD
TZOFFSETFROM:+1100
TZOFFSETTO:+1000
TZNAME:AEST
DTSTART:20250405T160000
END:STANDARD
BEGIN:DAYLIGHT
TZOFFSETFROM:+1000
TZOFFSETTO:+1100
TZNAME:AEDT
DTSTART:20251004T160000
END:DAYLIGHT
END:VTIMEZONE
BEGIN:VEVENT
DTSTART;TZID=Australia/Melbourne:20250213T130000
DTEND;TZID=Australia/Melbourne:20250213T150000
DTSTAMP:20260422T131518
CREATED:20250204T002216Z
LAST-MODIFIED:20250204T002216Z
UID:10001004-1739451600-1739458800@ausveg.com.au
SUMMARY:Nitrogen inhibitors and responsive fertiliser programs: Demonstration Trial Walk in Dean
DESCRIPTION:Join PotatoLink for a field walk at the PotatoLink Victorian demonstration site\, where they are exploring ways to optimise fertiliser practices for potato crops. The demonstration is focused on: \n\nEvaluate the impact of using Nitrogen Inhibitor base fertilisers at different rates on potato crop yield (marketable tuber weight)\, quality (size distribution\, defects and specific gravity)\, and gross margins.\nCompare a crop sampling-based responsive fertiliser program with a conventional fertiliser program to determine their effectiveness in optimising fertiliser use and profitability over a single growing season\n\nDuring the field walk\, you will hear about the strategies employed\, view and discuss the crop sampling results to date and understand how these results are shaping the fertiliser program\, and its impact on productivity. \nYou can read more about the demonstration trial here.
URL:https://ausveg.com.au/event/nitrogen-inhibitors-and-responsive-fertiliser-programs-demonstration-trial-walk-in-dean/
LOCATION:Dean\, VIC
CATEGORIES:VIC
ATTACH;FMTTYPE=image/png:https://ausveg.com.au/app/uploads/2025/02/Nitrogen-inhibitors-and-responsive-fertiliser-programs-Demonstration-Trial-Walk-in-Dean-feb-2025.png
END:VEVENT
END:VCALENDAR