BEGIN:VCALENDAR
VERSION:2.0
PRODID:-//AUSVEG - ECPv6.10.3//NONSGML v1.0//EN
CALSCALE:GREGORIAN
METHOD:PUBLISH
X-WR-CALNAME:AUSVEG
X-ORIGINAL-URL:https://ausveg.com.au
X-WR-CALDESC:Events for AUSVEG
REFRESH-INTERVAL;VALUE=DURATION:PT1H
X-Robots-Tag:noindex
X-PUBLISHED-TTL:PT1H
BEGIN:VTIMEZONE
TZID:Australia/Melbourne
BEGIN:STANDARD
TZOFFSETFROM:+1100
TZOFFSETTO:+1000
TZNAME:AEST
DTSTART:20250405T160000
END:STANDARD
BEGIN:DAYLIGHT
TZOFFSETFROM:+1000
TZOFFSETTO:+1100
TZNAME:AEDT
DTSTART:20251004T160000
END:DAYLIGHT
END:VTIMEZONE
BEGIN:VEVENT
DTSTART;TZID=Australia/Melbourne:20250805T100000
DTEND;TZID=Australia/Melbourne:20250805T230000
DTSTAMP:20260424T233622
CREATED:20250729T040820Z
LAST-MODIFIED:20250729T040820Z
UID:10001067-1754388000-1754434800@ausveg.com.au
SUMMARY:VIC: Preparing for Serpentine Leafminer
DESCRIPTION:Pakenham\nTues 5 Aug\, 10-11am \nMecure Pakenham\, 77 Racehouse Road \nLindenow\nWed 6 Aug\, 10-11am \nLindenow Pub \n  \nDr Paul Horne will host short workshops and take growers through management strategies including chemistries and biologicals. \nWith recent detections of Liriomyza huidobrensis east of Melbourne\, Agriculture Victoria\, VegNet and AUSVEG are partnering to hold grower information sessions. Two short workshops will be held on managing Serpentine leaf miner in vegetable crops covering: \n\npest identification\nlifecycles\nbest practice controls\nplant impacts\nchemical control options.\n\nAgriculture Victoria entomologist\, Antonette Walford\, and AUSVEG Biosecurity Coordinator\, Shakira Johnson\, will be in attendance to talk with growers. \nFor further information contact: \nScott Botten – Horticulture Program Coordinator\, Gippsland \nscott.botten@agriculture.vic.gov.au
URL:https://ausveg.com.au/event/vic-preparing-for-serpentine-leafminer/2025-08-05/
LOCATION:VIC
CATEGORIES:VIC
ATTACH;FMTTYPE=image/png:https://ausveg.com.au/app/uploads/2025/07/leafminer.png
END:VEVENT
END:VCALENDAR