BEGIN:VCALENDAR
VERSION:2.0
PRODID:-//AUSVEG - ECPv6.10.3//NONSGML v1.0//EN
CALSCALE:GREGORIAN
METHOD:PUBLISH
X-WR-CALNAME:AUSVEG
X-ORIGINAL-URL:https://ausveg.com.au
X-WR-CALDESC:Events for AUSVEG
REFRESH-INTERVAL;VALUE=DURATION:PT1H
X-Robots-Tag:noindex
X-PUBLISHED-TTL:PT1H
BEGIN:VTIMEZONE
TZID:Australia/Melbourne
BEGIN:STANDARD
TZOFFSETFROM:+1100
TZOFFSETTO:+1000
TZNAME:AEST
DTSTART:20250405T160000
END:STANDARD
BEGIN:DAYLIGHT
TZOFFSETFROM:+1000
TZOFFSETTO:+1100
TZNAME:AEDT
DTSTART:20251004T160000
END:DAYLIGHT
END:VTIMEZONE
BEGIN:VEVENT
DTSTART;TZID=Australia/Melbourne:20250909T160000
DTEND;TZID=Australia/Melbourne:20250909T170000
DTSTAMP:20260421T083157
CREATED:20250902T005337Z
LAST-MODIFIED:20250902T005337Z
UID:10001085-1757433600-1757437200@ausveg.com.au
SUMMARY:WA: Exploring AI and Vegetable Production Workshop
DESCRIPTION:Help shape the future of AI in vegetable production \nArtificial Intelligence (AI) is moving fast — but what does it really mean for vegetable growers? \nAn interactive workshop exploring practical applications of AI in the vegetable industry. This face-to-face session is part of Exploring AI Applications for the Vegetable Industry (VG24008)\, a levy-funded project supported by Hort Innovation and delivered by RMCG and the Australian Regional AI Network (ARAIN). \nWe’ll discuss: \n\nReal-world examples of AI in action across agriculture\nHow AI could help manage compliance\, logistics and labour challenges\nYour perspectives on where AI investment should be focused\n\nWhether you’re a grower\, packer\, or supply chain operator\, your input will help shape future industry priorities. \n  \nVG24008 has been funded by Hort Innovation\, using the vegetable industry research and development levy and contributions from the Australian Government.
URL:https://ausveg.com.au/event/wa-exploring-ai-and-vegetable-production-workshop/
LOCATION:Tall Timbers Brewery\, 109 Giblett St\, Manjimup\, WA\, 6258\, Australia
CATEGORIES:WA
ATTACH;FMTTYPE=image/png:https://ausveg.com.au/app/uploads/2025/07/ai-1.png
END:VEVENT
END:VCALENDAR