BEGIN:VCALENDAR
VERSION:2.0
PRODID:-//AUSVEG - ECPv6.10.3//NONSGML v1.0//EN
CALSCALE:GREGORIAN
METHOD:PUBLISH
X-ORIGINAL-URL:https://ausveg.com.au
X-WR-CALDESC:Events for AUSVEG
REFRESH-INTERVAL;VALUE=DURATION:PT1H
X-Robots-Tag:noindex
X-PUBLISHED-TTL:PT1H
BEGIN:VTIMEZONE
TZID:Australia/Perth
BEGIN:STANDARD
TZOFFSETFROM:+0800
TZOFFSETTO:+0800
TZNAME:AWST
DTSTART:20180101T000000
END:STANDARD
END:VTIMEZONE
BEGIN:VTIMEZONE
TZID:Australia/Melbourne
BEGIN:STANDARD
TZOFFSETFROM:+1100
TZOFFSETTO:+1000
TZNAME:AEST
DTSTART:20240406T160000
END:STANDARD
BEGIN:DAYLIGHT
TZOFFSETFROM:+1000
TZOFFSETTO:+1100
TZNAME:AEDT
DTSTART:20241005T160000
END:DAYLIGHT
BEGIN:STANDARD
TZOFFSETFROM:+1100
TZOFFSETTO:+1000
TZNAME:AEST
DTSTART:20250405T160000
END:STANDARD
BEGIN:DAYLIGHT
TZOFFSETFROM:+1000
TZOFFSETTO:+1100
TZNAME:AEDT
DTSTART:20251004T160000
END:DAYLIGHT
END:VTIMEZONE
BEGIN:VTIMEZONE
TZID:UTC
BEGIN:STANDARD
TZOFFSETFROM:+0000
TZOFFSETTO:+0000
TZNAME:UTC
DTSTART:20180101T000000
END:STANDARD
END:VTIMEZONE
BEGIN:VEVENT
DTSTART;TZID=Australia/Perth:20260328T100000
DTEND;TZID=Australia/Perth:20260328T150000
DTSTAMP:20260422T075802
CREATED:20251216T002133Z
LAST-MODIFIED:20251216T002133Z
UID:10001149-1774692000-1774710000@ausveg.com.au
SUMMARY:Ord River (Kununurra): VET Workforce Networking Roundtable
DESCRIPTION:As part of Stream Three of this project\, a Workforce Development Framework will be created\, providing a guide for employers and RTOs to work together to grow a fit-for-purpose VET workforce for their region. The framework will connect each stage of career development – from mentor to supervisor to VET educator – with practical actions\, existing resources and potential partnerships. It will be designed to be adaptable to the needs of different regional\, rural\, and remote communities. \nStakeholders are invited to participate in co-design of the Framework by attending roundtable and networking events being held online and around the country in early 2026. \nYou’re invited to participate in a roundtable and networking event designed to provide opportunities to contribute to several related projects and support the development of local connections. \nEmployers\, training providers\, industry partners\, business support services\, local government\, and community organisations are encouraged to join this vital conversation. \nYou’re welcome to join for the full day or just take part in sessions relevant to you. Register to secure your place\, and we’ll share detailed information closer to the date. \nMore information: https://skillsinsight.com.au/project/vet-workforce/
URL:https://ausveg.com.au/event/ord-river-kununurra-vet-workforce-networking-roundtable/
LOCATION:TBC
CATEGORIES:WA
ATTACH;FMTTYPE=image/png:https://ausveg.com.au/app/uploads/2025/12/skills-insight-event-banner.png
END:VEVENT
BEGIN:VEVENT
DTSTART;TZID=Australia/Perth:20260317T160000
DTEND;TZID=Australia/Perth:20260317T200000
DTSTAMP:20260422T075802
CREATED:20260223T224247Z
LAST-MODIFIED:20260223T224247Z
UID:10001181-1773763200-1773777600@ausveg.com.au
SUMMARY:vegetablesWA Roadshow Carnarvon
DESCRIPTION:Carnarvon growers — this is an event you don’t want to miss!\n\nJoin us ahead of the growing season for an opportunity to connect with fellow growers and hear from key industry professionals on:\n\nIndustry\, regional and R&D project updates\nFall armyworm biology and management\nNutrition programming for resilience\nInnovation to enhance shelf life\nCrop protection solutions to manage soil-borne pests and pathogens\n\n\nIncludes: Drinks and a buffet-style dinner \n\nFor assistance\, please contact:\nChi Nguyen – 0457 457 559 | chi.nguyen@vegetableswa.com.au\nJoel Dinsdale – 0417 857 675 or Lisa Hasson – 0459 952 297
URL:https://ausveg.com.au/event/vegetableswa-roadshow-carnarvon/
LOCATION:Carnarvon Yacht Club\, 2 West St\, Carnarvon\, WA\, Australia
CATEGORIES:WA,VegNET
ATTACH;FMTTYPE=image/png:https://ausveg.com.au/app/uploads/2026/02/vegetableswa-roadshow-carnarvon.png
ORGANIZER;CN="vegetablesWA":MAILTO:office@vegetableswa.com.au
END:VEVENT
BEGIN:VEVENT
DTSTART;TZID=Australia/Perth:20260312T123000
DTEND;TZID=Australia/Perth:20260312T170000
DTSTAMP:20260422T075802
CREATED:20260211T035343Z
LAST-MODIFIED:20260211T035343Z
UID:10001179-1773318600-1773334800@ausveg.com.au
SUMMARY:WA: Integrated Pest Management in Potato Crops Workshop (South-west coast)
DESCRIPTION:Paul Horne of IPM Technologies will present a workshop covering the fundamentals of IPM in potato crops. He will then lead you on a Field Walk to practice scouting for pests and beneficials. Participants will leave with strategies to implement in their own businesses. \nAdditionally\, hear an update on the Hort Innovation & other related disease research and management projects.
URL:https://ausveg.com.au/event/wa-integrated-pest-management-in-potato-crops-workshop-south-west-coast/
LOCATION:Jindong\, WA\, Australia
CATEGORIES:WA
ATTACH;FMTTYPE=image/png:https://ausveg.com.au/app/uploads/2026/02/Integrated-Pest-Management-in-Potato-Crops-Workshop-South-West-WA.png
END:VEVENT
BEGIN:VEVENT
DTSTART;TZID=Australia/Perth:20260311T123000
DTEND;TZID=Australia/Perth:20260311T170000
DTSTAMP:20260422T075802
CREATED:20260211T034607Z
LAST-MODIFIED:20260211T034607Z
UID:10001178-1773232200-1773248400@ausveg.com.au
SUMMARY:WA: Integrated Pest Management in Potato Crops Workshop
DESCRIPTION:Paul Horne of IPM Technologies will present a workshop covering the fundamentals of IPM in potato crops. He will then lead you on a Field Walk to practice scouting for pests and beneficials. Participants will leave with strategies to implement in their own businesses. \nAdditionally\, hear an update on the Hort Innovation & other related disease research and management projects.
URL:https://ausveg.com.au/event/wa-integrated-pest-management-in-potato-crops-workshop/
LOCATION:Pemberton/Manjimup Region
CATEGORIES:WA
ATTACH;FMTTYPE=image/png:https://ausveg.com.au/app/uploads/2026/02/Integrated-Pest-Management-in-Potato-Crops-Workshop-South-WA.png
END:VEVENT
BEGIN:VEVENT
DTSTART;TZID=Australia/Perth:20260226T150000
DTEND;TZID=Australia/Perth:20260226T180000
DTSTAMP:20260422T075802
CREATED:20260209T231240Z
LAST-MODIFIED:20260209T231240Z
UID:10001176-1772118000-1772128800@ausveg.com.au
SUMMARY:WA: AI Sprayer - Open-Source Weed Locator Farm Demonstration
DESCRIPTION:See an open-source AI weed locator sprayer in action and learn how artificial intelligence is being used for precision weed detection. \n\n\n\n\n3pm – Registration and discussion on development of the OWL\, learnings from the 2025 study tour to Denmark and Netherlands \n4pm – live demonstration of OWL in the field \n5pm – light supper and non-alcoholic beverages provided \nBiosecurity protocols apply – please use footpaths provided. \n\nVegNET 3.0 (VG21000) is a vegetable and onion industry extension program nationally coordinated by AUSVEG and funded by Hort Innovation using the vegetable and onion research and development levies and contributions from the Australian Government.
URL:https://ausveg.com.au/event/wa-ai-sprayer-open-source-weed-locator-farm-demonstration/
LOCATION:317 Cosy Creek Rd\, 317 Cosy Creek Rd\, Palgarup\, WA\, Australia
CATEGORIES:WA
ATTACH;FMTTYPE=image/png:https://ausveg.com.au/app/uploads/2026/02/open-weed-locator-event.png
ORGANIZER;CN="vegetablesWA":MAILTO:office@vegetableswa.com.au
END:VEVENT
BEGIN:VEVENT
DTSTART;TZID=Australia/Melbourne:20250909T160000
DTEND;TZID=Australia/Melbourne:20250909T170000
DTSTAMP:20260422T075802
CREATED:20250902T005337Z
LAST-MODIFIED:20250902T005337Z
UID:10001085-1757433600-1757437200@ausveg.com.au
SUMMARY:WA: Exploring AI and Vegetable Production Workshop
DESCRIPTION:Help shape the future of AI in vegetable production \nArtificial Intelligence (AI) is moving fast — but what does it really mean for vegetable growers? \nAn interactive workshop exploring practical applications of AI in the vegetable industry. This face-to-face session is part of Exploring AI Applications for the Vegetable Industry (VG24008)\, a levy-funded project supported by Hort Innovation and delivered by RMCG and the Australian Regional AI Network (ARAIN). \nWe’ll discuss: \n\nReal-world examples of AI in action across agriculture\nHow AI could help manage compliance\, logistics and labour challenges\nYour perspectives on where AI investment should be focused\n\nWhether you’re a grower\, packer\, or supply chain operator\, your input will help shape future industry priorities. \n  \nVG24008 has been funded by Hort Innovation\, using the vegetable industry research and development levy and contributions from the Australian Government.
URL:https://ausveg.com.au/event/wa-exploring-ai-and-vegetable-production-workshop/
LOCATION:Tall Timbers Brewery\, 109 Giblett St\, Manjimup\, WA\, 6258\, Australia
CATEGORIES:WA
ATTACH;FMTTYPE=image/png:https://ausveg.com.au/app/uploads/2025/07/ai-1.png
END:VEVENT
BEGIN:VEVENT
DTSTART;TZID=Australia/Melbourne:20250724T140000
DTEND;TZID=Australia/Melbourne:20250724T163000
DTSTAMP:20260422T075802
CREATED:20250630T044504Z
LAST-MODIFIED:20250722T003517Z
UID:10001048-1753365600-1753374600@ausveg.com.au
SUMMARY:WA: Farm Field Afternoon in Geraldton (English & Vietnamese)
DESCRIPTION:Improving water use efficiency and management of pests and diseases in Geraldton vegetable production \nJoin us for an informative afternoon of learning and discussion. The focus will be on protected cropping\, water use efficiency\, and pest and disease management in Geraldton vegetable production. \nDiscover full-circulation hydroponics for cucumber production\, and hear from experts on: water management strategies\, soilborne disease control\, climate-smart farming technologies and practices\, and integrated pest management in greenhouses. \nAll talks will be presented in both English and Vietnamese. \n  \nCải thiện hiệu quả sử dụng nước & quản lý dịch hại trong sản xuất rau quả ở Geraldton. \nKhám phá hệ thống thủy canh tuần hoàn khép kín cho sản xuất dưa leo. \nLắng nghe các chuyên gia chia sẻ về: Chiến lược quản lý nước; Kiểm soát bệnh do tuyến trùng trong đất; Công nghệ và thực hành canh tác thông minh với khí hậu; Quản lý dịch hại tổng hợp trong nhà kính. \nRSVP online here: Registration Form\nOr contact: \n\nChi Nguyen (chi.nguyen@vegetableswa.com.au) | 0457 457 559\nGiao Nguyen (DPIRD): giao.nguyen@dpird.wa.gov.au | 0423 904 957\nKatrina Hill (katrina.hill@vegetableswa.com.au | 0427 373 037
URL:https://ausveg.com.au/event/wa-farm-field-afternoon-in-geraldton/
LOCATION:Sun City Produce\, 36 Masters Road\, Deepdale\, WA\, 6532\, Australia
CATEGORIES:WA,VegNET
ATTACH;FMTTYPE=image/png:https://ausveg.com.au/app/uploads/2025/06/farm-field-afternoon-in-geraldton.png
END:VEVENT
BEGIN:VEVENT
DTSTART;VALUE=DATE:20240916
DTEND;VALUE=DATE:20240919
DTSTAMP:20260422T075802
CREATED:20240205T233446Z
LAST-MODIFIED:20240205T233446Z
UID:10000915-1726444800-1726703999@ausveg.com.au
SUMMARY:National Rural Health Conference
DESCRIPTION:The National Rural Health Conference is the pre‑eminent event in Australia for information and inspiration about rural and remote health and wellbeing. \n  \nJoin us at the 17th National Rural Health Conference – Imagine\, Inspire and Innovate! The preeminent event in the southern hemisphere focusing on building healthy\, sustainable and resilient rural communities. With plenty of opportunities for networking\, the Conference will focus on innovative important topics such as rural health workforce capacity and training\, determinants of health\, mental health\, the effects of climate change on health\, Indigenous health\, cultural safety\, arts and health\, as well as healthcare research and innovation. \nIf you are a health care consumer\, health professional\, student\, researcher or policymaker\, this is the one event in 2024 that you must not miss.  Come and join us as we collaborate and imagine opportunities to create a sustainable\, innovative healthcare system for rural and remote Australia.
URL:https://ausveg.com.au/event/national-rural-health-conference/
LOCATION:Perth Convention and Exhibition Centre\, 21 Mounts Bay Rd\, Perth\, WA\, 6000\, Australia
CATEGORIES:WA
ATTACH;FMTTYPE=image/png:https://ausveg.com.au/app/uploads/2024/02/national-rural-health-conference.png
END:VEVENT
BEGIN:VEVENT
DTSTART;TZID=Australia/Melbourne:20240529T123000
DTEND;TZID=Australia/Melbourne:20240529T163000
DTSTAMP:20260422T075802
CREATED:20240410T040211Z
LAST-MODIFIED:20240410T040211Z
UID:10000950-1716985800-1717000200@ausveg.com.au
SUMMARY:Seed Potato Workshop (WA): Storage and Diseases
DESCRIPTION:Join the PotatoLink team for a workshop on Western Australian seed storage and seed diseases. \nLunch from 12:30 pm\, talks will start from 1:00 pm. \nJenny Ekman\, Applied Horticultural Research postharvest physiologist\, will discuss best practice cool room & potato seed management after removal from cool store. \nDavid Tooke\, a DPIRD seed inspector\, will talk about potato diseases. \nDPIRD plant pathologist\, Wossen Mengesha\, will give an update on their recent work on potatoes and PredictaPt \nAfter the conclusion of the talks a tour of Coldahold coolstore in Manjimup has been organised. \n  \nDate: Wednesday 29 May 2024\nTime: 12:30 – 4:30 pm\nLocation: Manjimup Horticultural Research Institute – 28527 S Western Hwy Middlesex WA\nRegistration: Click here to register
URL:https://ausveg.com.au/event/seed-potato-workshop-wa-storage-and-diseases/
LOCATION:Manjimup Horticultural Research Institute\, 28527 S Western Hwy\, Middlesex\, WA\, Australia
CATEGORIES:WA
ATTACH;FMTTYPE=image/png:https://ausveg.com.au/app/uploads/2024/04/Screenshot-2024-04-10-140140.png
END:VEVENT
BEGIN:VEVENT
DTSTART;VALUE=DATE:20240318
DTEND;VALUE=DATE:20240320
DTSTAMP:20260422T075802
CREATED:20231211T015630Z
LAST-MODIFIED:20231211T015630Z
UID:10000896-1710720000-1710892799@ausveg.com.au
SUMMARY:Perth: Retail Negotiation Skills Workshops
DESCRIPTION:To expand your skills in managing commercial sales relationships with retailers\, AUSVEG is hosting two-day Retail Negotiation Skills Workshops in 2024\, in collaboration with NextGen’s Neil Rechlin. \n  \nMost growers are very good at negotiating the price of farm equipment and understanding the latest technology. However\, it is often not the case when dealing with retailers. Effective engagement will ensure growers get a fairer return for their hard work to grow fresh produce. \nAUSVEG\, in partnership with NextGen\, recently conducted a training course in Melbourne for growers to learn retailer negotiation skills. \nPresenter Neil Rechlin says that many growers receive the contract details from the retailer\, but often don’t understand them\, or the strategy that underpins the discussion. To be in a better position\, grower knowledge of what drives retailer behaviour and their tactics goes a long way to improving the outcome for the grower. \nNeil says there is consistent poor behaviour from retailers because they face no punishment\, and no consequences. The ability to police and fine retailers for poor behaviour would be a significant step forward that can only be achieved through making the Food and Grocery Code of Conduct mandated. Under the legal framework\, the current voluntary code does not allow for fines to be levied against retailers for a breach. \n“It really does come down to the supplier understanding where they can benefit\, what the change of behaviour from their trading partnership should look like\, and then being in the position to start enforcing that. Many fear upsetting the retailer and pushing their rights too far and risking the contract.” \nFor the past seven years Neil has led the NextGen involvement in the Grocery Code of Conduct\, working with manufacturers\, industry bodies and the ACCC to continue the evolution of the Code in Australia. Neil has a passion for helping suppliers in their sometimes challenging engagements\, with the major retailers and wholesalers. \nDownload the course details pdf here: Negotiation_AusVeg_23 \nPlease indicate your Expression of Interest by emailing publicaffairs@ausveg.com.au. Don’t forget to include which event you are interested in attending. \n 
URL:https://ausveg.com.au/event/perth-retail-negotiation-skills-workshops/
LOCATION:vegetablesWA\, 702-704 Murray St\, Perth\, WA\, 6005\, Australia
CATEGORIES:WA
ATTACH;FMTTYPE=image/png:https://ausveg.com.au/app/uploads/2023/12/retail-negotation.png
END:VEVENT
BEGIN:VEVENT
DTSTART;VALUE=DATE:20240220
DTEND;VALUE=DATE:20240222
DTSTAMP:20260422T075802
CREATED:20240122T003534Z
LAST-MODIFIED:20240122T003534Z
UID:10000902-1708387200-1708559999@ausveg.com.au
SUMMARY:evokeag 2024
DESCRIPTION:evokeAG. creates one meeting place to see what is happening across agrifood tech in Australia and the world. It increases the capability of the Australian ecosystem by attracting leaders\, farmers\, innovators\, accelerators\, researchers\, universities\, corporates\, government and investors to one location for collaboration. evokeAG. 2024 will be held on the 20-21 February 2024 in Perth\, Western Australia. Tickets are now on sale.
URL:https://ausveg.com.au/event/evokeag-2024/
LOCATION:Perth Convention and Exhibition Centre\, 21 Mounts Bay Rd\, Perth\, WA\, 6000\, Australia
CATEGORIES:WA
ATTACH;FMTTYPE=image/png:https://ausveg.com.au/app/uploads/2024/01/evokeag.png
END:VEVENT
BEGIN:VEVENT
DTSTART;VALUE=DATE:20210216
DTEND;VALUE=DATE:20210218
DTSTAMP:20260422T075802
CREATED:20200326T031913Z
LAST-MODIFIED:20200326T031913Z
UID:10000832-1613433600-1613606399@ausveg.com.au
SUMMARY:evokeAG
DESCRIPTION:What: evokeAG \nWhen: 16-17 February 2021 \nWhere: Perth (location TBA) \nWebsite:  https://evokeag.com/ \nevokeAG heads west in 2021\nWestern Australia is set to host AgriFutures Australia’s 2021  evokeAG event – Asia Pacific’s largest agrifood tech event.\nDesigned by industry to encourage domestic and international delegates to connect and collaborate across three important areas —food\, farm\, future — the event will examine future possibilities of agrifood technology and investment. \nScheduled for 16-17 February in Perth\, more than 1\,000 delegates are expected to attend\, including farmers\, start-ups\, innovators\, researchers\, businesses\, government\, universities and investors. \nThe past two events held in Melbourne have attracted a contingent of WA businesses looking to explore new opportunities to attract investment\, value-add and scale up. \nClick here for more information.
URL:https://ausveg.com.au/event/evokeag/
LOCATION:WA
CATEGORIES:WA
END:VEVENT
BEGIN:VEVENT
DTSTART;VALUE=DATE:20200303
DTEND;VALUE=DATE:20200306
DTSTAMP:20260422T075802
CREATED:20200204T015858Z
LAST-MODIFIED:20200204T015937Z
UID:10000827-1583193600-1583452799@ausveg.com.au
SUMMARY:Greenlife Industry National Conference
DESCRIPTION:Our industry is a made up of a diverse range of businesses and organisations that provide products and services for greenlife production; produce\, supply and retail greenlife; and promote the benefits of greenlife with the community. \nFor more information on the event please click here
URL:https://ausveg.com.au/event/greenlife-industry-national-conference/
LOCATION:The Westin\, 480 Hay St\, Perth WA 6000
CATEGORIES:WA
END:VEVENT
BEGIN:VEVENT
DTSTART;TZID=UTC:20200224T080000
DTEND;TZID=UTC:20200224T170000
DTSTAMP:20260422T075802
CREATED:20200224T045140Z
LAST-MODIFIED:20200224T045140Z
UID:10000679-1582531200-1582563600@ausveg.com.au
SUMMARY:WAFarmers Annual Conference: Fuel the Tank 2020
DESCRIPTION:Who: WAFarmers \nWhat: WAFarmers Annual Conference: Fuel the Tank 2020 \nWhere: The Westin\, 480 Hay St\, Perth WA \nLink to event: https://wafarmers.org.au/wafarmers-events/wafarmers-annual-conference-fuel-the-tank-2020/
URL:https://ausveg.com.au/event/wafarmers-annual-conference-fuel-the-tank-2020/
LOCATION:The Westin\, 480 Hay St\, Perth WA 6000
CATEGORIES:WA
END:VEVENT
BEGIN:VEVENT
DTSTART;TZID=UTC:20200224T080000
DTEND;TZID=UTC:20200224T170000
DTSTAMP:20260422T075802
CREATED:20200224T001827Z
LAST-MODIFIED:20200224T001827Z
UID:10000677-1582531200-1582563600@ausveg.com.au
SUMMARY:Cover Crops Coaching Clinic\, WA
DESCRIPTION:Where: Manjimup Horticultural Research Facility\, 28527 South West Highway\, Manjimup WA 6258 \nWhen: Monday 6 April \nFor more information on the event please click here \nhttps://www.soilwealth.com.au/events/cover-crops-coaching-clinic-manjimup-wa/
URL:https://ausveg.com.au/event/cover-crops-coaching-clinic-wa/
LOCATION:Manjimup Horticulture Research Facility\, 28527 South West Highway\, Manjimup\, WA\, 6258\, Australia
CATEGORIES:WA
END:VEVENT
BEGIN:VEVENT
DTSTART;TZID=UTC:20200212T160000
DTEND;TZID=UTC:20200212T180000
DTSTAMP:20260422T075802
CREATED:20200204T015433Z
LAST-MODIFIED:20200204T015433Z
UID:10000825-1581523200-1581530400@ausveg.com.au
SUMMARY:Regional visa information session
DESCRIPTION:A free information session outlining visa options for employing workers in regional Australia will be held in Northam\, Western Australia\, on 12 February from 4-6pm. \nHosted by the Department of Home Affairs\, the session will outline a range of new incentives for overseas skilled workers to live and work in regional Australia. \nInformation regarding visa options to address skills shortages\, where positions cannot be filled by Australian workers\, will also be discussed. \nInterested parties who wish to find out more about regional migration options and benefits must register online here by Monday 10 February.
URL:https://ausveg.com.au/event/regional-visa-information-session-2/
LOCATION:Northam Recreation Centre\, 44 Peel Street Weld Street Northam\, WA 6401\, Australia
CATEGORIES:WA
END:VEVENT
BEGIN:VEVENT
DTSTART;TZID=UTC:20200211T163000
DTEND;TZID=UTC:20200211T183000
DTSTAMP:20260422T075802
CREATED:20200130T023121Z
LAST-MODIFIED:20200130T023121Z
UID:10000822-1581438600-1581445800@ausveg.com.au
SUMMARY:Regional Visa Information Session
DESCRIPTION:The Australian Government is committed to boosting skills in regional Australia. There are new incentives for overseas skilled workers to live and work in regional Australia. \nThe Department of Home Affairs will be providing information about visa options to address skills shortages where positions cannot be filled by Australian workers. \nWe invite employers and interested community members to a free information session to find out about regional migration options and benefits. \nRSVP by Monday 10 February 2020. Places are limited\, register today. \n\n\nFor more information on the event please click here
URL:https://ausveg.com.au/event/regional-visa-information-session/
LOCATION:Granville Civic Centre\, Lot 326 Jones St\, Gingin\, WA\, 6503\, Australia
CATEGORIES:WA
END:VEVENT
BEGIN:VEVENT
DTSTART;TZID=UTC:20191212T150000
DTEND;TZID=UTC:20191212T160000
DTSTAMP:20260422T075802
CREATED:20191121T055019Z
LAST-MODIFIED:20191121T055019Z
UID:10000812-1576162800-1576166400@ausveg.com.au
SUMMARY:Webinar: Planning for Summer - Irrigation and Water Management
DESCRIPTION:Event overview\nAs crop growth and water use increase with the warmer weather\, it’s a good time to think about getting on top of irrigation management and reviewing your water availability. Join this webinar\, hosted by VegNET\, for a Victoria specific focus on the summer weather outlook\, water availability north of the divide and preparation of irrigation system. \nSpeakers and topics will include: \n\nGraeme Anderson\, Agriculture Victoria: Climatic outlooks and available tools and resources for growers\nGeorge Warne\, RMCG: Water pricing and forecast\, with a focus on irrigation regions north of the Great Divide\nKelvin Montagu\, AHR: Managing summer crop water demands – options for making the most of your irrigation water.\n\nEvent organiser\nRMCG \nEvent details\nStart Date: 12 December 2019\nTime: 3.00pm to 4.00pm \nTo register\, head to their website at https://register.gotowebinar.com/register/470933327644634125 \nThis webinar is part of the Hort Innovtation Vegetable Fund project Soil wealth and integrated crop protection – phase 2 (VG16078) \n  \nFor more information on the event please click here
URL:https://ausveg.com.au/event/webinar-planning-for-summer-irrigation-and-water-management/
LOCATION:Webinar
CATEGORIES:ACT,VIC,NSW,QLD,NT,WA,TAS,SA,[International]
END:VEVENT
BEGIN:VEVENT
DTSTART;VALUE=DATE:20190624
DTEND;VALUE=DATE:20190627
DTSTAMP:20260422T075802
CREATED:20181211T230400Z
LAST-MODIFIED:20181211T230400Z
UID:10000603-1561334400-1561593599@ausveg.com.au
SUMMARY:Hort Connections 2019
DESCRIPTION:
URL:https://hortconnections.com.au/
LOCATION:WA
CATEGORIES:ACT,VIC,NSW,QLD,NT,WA,TAS,SA
END:VEVENT
BEGIN:VEVENT
DTSTART;VALUE=DATE:20190430
DTEND;VALUE=DATE:20190501
DTSTAMP:20260422T075802
CREATED:20190113T225723Z
LAST-MODIFIED:20190113T225723Z
UID:10000773-1556582400-1556668799@ausveg.com.au
SUMMARY:Churchill Fellowship applications close
DESCRIPTION:
URL:https://www.churchilltrust.com.au/application-process/how-to-apply/
LOCATION:WA
CATEGORIES:ACT,VIC,NSW,QLD,NT,WA,TAS,SA
END:VEVENT
BEGIN:VEVENT
DTSTART;TZID=UTC:20190313T100000
DTEND;TZID=UTC:20190313T123000
DTSTAMP:20260422T075802
CREATED:20190113T233109Z
LAST-MODIFIED:20190113T233121Z
UID:10000777-1552471200-1552480200@ausveg.com.au
SUMMARY:PMA seminar - Sustainable packaging
DESCRIPTION:
URL:https://www.pma.com/Global-PMA/ANZ/Events/Packaging-Seminar-March-2019
LOCATION:WA
CATEGORIES:NSW,WA
END:VEVENT
BEGIN:VEVENT
DTSTART;TZID=UTC:20190218T180000
DTEND;TZID=UTC:20190218T210000
DTSTAMP:20260422T075802
CREATED:20190117T221414Z
LAST-MODIFIED:20190117T221414Z
UID:10000782-1550512800-1550523600@ausveg.com.au
SUMMARY:Hort Innovation strategy workshop (Gingin)
DESCRIPTION:
URL:https://www.eventbrite.com.au/e/hort-innovation-2019-strategy-consultation-workshops-gingin-wa-tickets-53841245615
LOCATION:WA
CATEGORIES:WA
END:VEVENT
BEGIN:VEVENT
DTSTART;VALUE=DATE:20190201
DTEND;VALUE=DATE:20190202
DTSTAMP:20260422T075802
CREATED:20190113T225636Z
LAST-MODIFIED:20190113T225636Z
UID:10000772-1548979200-1549065599@ausveg.com.au
SUMMARY:Churchill Fellowship applications open
DESCRIPTION:
URL:https://www.churchilltrust.com.au/application-process/how-to-apply/
LOCATION:WA
CATEGORIES:ACT,VIC,NSW,QLD,NT,WA,TAS,SA
END:VEVENT
BEGIN:VEVENT
DTSTART;TZID=UTC:20190124T100000
DTEND;TZID=UTC:20190124T110000
DTSTAMP:20260422T075802
CREATED:20190113T232955Z
LAST-MODIFIED:20190113T233008Z
UID:10000776-1548324000-1548327600@ausveg.com.au
SUMMARY:PMA webinar - Vertical farming
DESCRIPTION:
URL:https://www.pma.com/Global-PMA/ANZ/Events/The-Commercial-Case-for-Vertical-Farming
LOCATION:WA
CATEGORIES:ACT,VIC,NSW,QLD,NT,WA,TAS,SA
END:VEVENT
BEGIN:VEVENT
DTSTART;TZID=UTC:20190119T180000
DTEND;TZID=UTC:20190119T210000
DTSTAMP:20260422T075802
CREATED:20190117T221602Z
LAST-MODIFIED:20190117T221602Z
UID:10000783-1547920800-1547931600@ausveg.com.au
SUMMARY:Hort Innovation strategy workshop (Bunbury)
DESCRIPTION:
URL:https://www.eventbrite.com.au/e/hort-innovation-2019-strategy-consultation-workshops-bunbury-wa-tickets-53841308804
LOCATION:WA
CATEGORIES:WA
END:VEVENT
BEGIN:VEVENT
DTSTART;VALUE=DATE:20181210
DTEND;VALUE=DATE:20181211
DTSTAMP:20260422T075802
CREATED:20181120T023955Z
LAST-MODIFIED:20181120T023955Z
UID:10000602-1544400000-1544486399@ausveg.com.au
SUMMARY:Hort Masterclass applications deadline
DESCRIPTION:
URL:https://horticulture.com.au/2019-masterclass-scholarships-and-placements-up-for-grabs/
LOCATION:WA
CATEGORIES:ACT,VIC,NSW,QLD,NT,WA,TAS,SA
END:VEVENT
BEGIN:VEVENT
DTSTART;VALUE=DATE:20181123
DTEND;VALUE=DATE:20181124
DTSTAMP:20260422T075802
CREATED:20181107T011516Z
LAST-MODIFIED:20181107T011516Z
UID:10000767-1542931200-1543017599@ausveg.com.au
SUMMARY:Hort Innovation AGM
DESCRIPTION:
URL:https://horticulture.com.au/annual-general-meeting-2018/
LOCATION:WA
CATEGORIES:ACT,VIC,NSW,QLD,NT,WA,TAS,SA,VegNET
END:VEVENT
BEGIN:VEVENT
DTSTART;VALUE=DATE:20181121
DTEND;VALUE=DATE:20181122
DTSTAMP:20260422T075802
CREATED:20181030T023018Z
LAST-MODIFIED:20181030T023018Z
UID:10000598-1542758400-1542844799@ausveg.com.au
SUMMARY:National Agriculture Day
DESCRIPTION:
URL:https://www.agday.org.au/
LOCATION:WA
CATEGORIES:ACT,VIC,NSW,QLD,NT,WA,TAS,SA
END:VEVENT
BEGIN:VEVENT
DTSTART;VALUE=DATE:20181112
DTEND;VALUE=DATE:20181113
DTSTAMP:20260422T075802
CREATED:20181107T011353Z
LAST-MODIFIED:20181107T011353Z
UID:10000765-1541980800-1542067199@ausveg.com.au
SUMMARY:Hort Connections 2019 registrations open
DESCRIPTION:
URL:https://ausveg.com.au/articles/delegate-registrations-hort-connections-2019-open-monday-12-november/
LOCATION:WA
CATEGORIES:ACT,VIC,NSW,QLD,NT,WA,TAS,SA,[International],VegNET
END:VEVENT
BEGIN:VEVENT
DTSTART;VALUE=DATE:20181025
DTEND;VALUE=DATE:20181027
DTSTAMP:20260422T075802
CREATED:20181016T004705Z
LAST-MODIFIED:20181016T004717Z
UID:10000730-1540425600-1540598399@ausveg.com.au
SUMMARY:vegetablesWA Industry Summit
DESCRIPTION:
URL:http://www.vegetableswa.com.au/vegetableswa-industry-summit-invite-vegetable-growers/
LOCATION:WA
CATEGORIES:WA,VegNET
END:VEVENT
END:VCALENDAR