BEGIN:VCALENDAR
VERSION:2.0
PRODID:-//AUSVEG - ECPv6.10.3//NONSGML v1.0//EN
CALSCALE:GREGORIAN
METHOD:PUBLISH
X-ORIGINAL-URL:https://ausveg.com.au
X-WR-CALDESC:Events for AUSVEG
REFRESH-INTERVAL;VALUE=DURATION:PT1H
X-Robots-Tag:noindex
X-PUBLISHED-TTL:PT1H
BEGIN:VTIMEZONE
TZID:Australia/Melbourne
BEGIN:STANDARD
TZOFFSETFROM:+1100
TZOFFSETTO:+1000
TZNAME:AEST
DTSTART:20260404T160000
END:STANDARD
BEGIN:DAYLIGHT
TZOFFSETFROM:+1000
TZOFFSETTO:+1100
TZNAME:AEDT
DTSTART:20261003T160000
END:DAYLIGHT
END:VTIMEZONE
BEGIN:VEVENT
DTSTART;TZID=Australia/Melbourne:20260422T140000
DTEND;TZID=Australia/Melbourne:20260422T150000
DTSTAMP:20260421T224812
CREATED:20260414T032937Z
LAST-MODIFIED:20260414T032937Z
UID:10001233-1776866400-1776870000@ausveg.com.au
SUMMARY:Hort IQ Webinar: What does sustainability really mean to Australian fresh produce shoppers?
DESCRIPTION:Here’s what’s on the agenda:   \n\nHow consumers define sustainability when buying fresh produce  \nWhat sustainable behaviour looks like\, including waste reduction and seasonality   \nPackaging trade‑offs\, balancing plastic concerns with freshness and food waste  \nWhere organics fit in sustainability perceptions\, and barriers to broader uptake  \n\nPractical implementations for growers and the fresh produce industry  
URL:https://ausveg.com.au/event/hort-iq-webinar-what-does-sustainability-really-mean-to-australian-fresh-produce-shoppers/
CATEGORIES:Webinars
ATTACH;FMTTYPE=image/png:https://ausveg.com.au/app/uploads/2025/04/field.png
LOCATION:https://assets-oce.mkt.dynamics.com/3fa8892d-a3bf-4985-b507-62c75951e29e/digitalassets/standaloneforms/a3cb3420-7534-f111-88b4-00224897b0bf?readableEventId=Hort_IQ_Webinar_What_does_sustainability_really_mean_to_Australian_fresh_produce_shoppers435801799#msdynmkt_trackingcontext=9c57ebf1-722c-41fb-9935-4146f4a00000&msdynmkt_prefill=mktprf4d16e4f4bd4b491ebe0c68ee454a0af6eoprf
END:VEVENT
END:VCALENDAR