BEGIN:VCALENDAR
VERSION:2.0
PRODID:-//AUSVEG - ECPv6.10.3//NONSGML v1.0//EN
CALSCALE:GREGORIAN
METHOD:PUBLISH
X-ORIGINAL-URL:https://ausveg.com.au
X-WR-CALDESC:Events for AUSVEG
REFRESH-INTERVAL;VALUE=DURATION:PT1H
X-Robots-Tag:noindex
X-PUBLISHED-TTL:PT1H
BEGIN:VTIMEZONE
TZID:Australia/Melbourne
BEGIN:STANDARD
TZOFFSETFROM:+1100
TZOFFSETTO:+1000
TZNAME:AEST
DTSTART:20260404T160000
END:STANDARD
BEGIN:DAYLIGHT
TZOFFSETFROM:+1000
TZOFFSETTO:+1100
TZNAME:AEDT
DTSTART:20261003T160000
END:DAYLIGHT
END:VTIMEZONE
BEGIN:VEVENT
DTSTART;VALUE=DATE:20260424
DTEND;VALUE=DATE:20260427
DTSTAMP:20260425T202823
CREATED:20260310T003440Z
LAST-MODIFIED:20260310T003440Z
UID:10001192-1776988800-1777247999@ausveg.com.au
SUMMARY:European Conference on Food Science & Technology
DESCRIPTION:The third edition of the European Conference on Food Science and Technology – a leading international gathering of food scientists\, technologists\, researchers\, innovators\, industry leaders\, and policymakers\, all dedicated to shaping the future of food.
URL:https://ausveg.com.au/event/european-conference-on-food-science-technology/
LOCATION:Bern\, Switzerland
CATEGORIES:[International]
ATTACH;FMTTYPE=image/png:https://ausveg.com.au/app/uploads/2025/04/field.png
END:VEVENT
END:VCALENDAR