BEGIN:VCALENDAR
VERSION:2.0
PRODID:-//AUSVEG - ECPv6.10.3//NONSGML v1.0//EN
CALSCALE:GREGORIAN
METHOD:PUBLISH
X-WR-CALNAME:AUSVEG
X-ORIGINAL-URL:https://ausveg.com.au
X-WR-CALDESC:Events for AUSVEG
REFRESH-INTERVAL;VALUE=DURATION:PT1H
X-Robots-Tag:noindex
X-PUBLISHED-TTL:PT1H
BEGIN:VTIMEZONE
TZID:Australia/Melbourne
BEGIN:STANDARD
TZOFFSETFROM:+1100
TZOFFSETTO:+1000
TZNAME:AEST
DTSTART:20260404T160000
END:STANDARD
BEGIN:DAYLIGHT
TZOFFSETFROM:+1000
TZOFFSETTO:+1100
TZNAME:AEDT
DTSTART:20261003T160000
END:DAYLIGHT
END:VTIMEZONE
BEGIN:VEVENT
DTSTART;VALUE=DATE:20260727
DTEND;VALUE=DATE:20260730
DTSTAMP:20260420T065805
CREATED:20260127T235413Z
LAST-MODIFIED:20260127T235413Z
UID:10001166-1785110400-1785369599@ausveg.com.au
SUMMARY:2026 Australian Women in Agriculture National Conference
DESCRIPTION:Home / Australian Women in AgricultureThis gathering will bring together farmers\, industry leaders\, and community voices for two days of collaboration\, inspiration\, and forward‑thinking discussions. \nBanksia\, Orange\, NSW
URL:https://ausveg.com.au/event/2026-australian-women-in-agriculture-national-conference/
CATEGORIES:NSW
ATTACH;FMTTYPE=image/png:https://ausveg.com.au/app/uploads/2025/04/field.png
ORGANIZER;CN="Australian Women in Agriculture":MAILTO:administration@awia.org.au
END:VEVENT
END:VCALENDAR