BEGIN:VCALENDAR
VERSION:2.0
PRODID:-//AUSVEG - ECPv6.10.3//NONSGML v1.0//EN
CALSCALE:GREGORIAN
METHOD:PUBLISH
X-WR-CALNAME:AUSVEG
X-ORIGINAL-URL:https://ausveg.com.au
X-WR-CALDESC:Events for AUSVEG
REFRESH-INTERVAL;VALUE=DURATION:PT1H
X-Robots-Tag:noindex
X-PUBLISHED-TTL:PT1H
BEGIN:VTIMEZONE
TZID:Australia/Melbourne
BEGIN:STANDARD
TZOFFSETFROM:+1100
TZOFFSETTO:+1000
TZNAME:AEST
DTSTART:20260404T160000
END:STANDARD
BEGIN:DAYLIGHT
TZOFFSETFROM:+1000
TZOFFSETTO:+1100
TZNAME:AEDT
DTSTART:20261003T160000
END:DAYLIGHT
END:VTIMEZONE
BEGIN:VEVENT
DTSTART;VALUE=DATE:20260609
DTEND;VALUE=DATE:20260612
DTSTAMP:20260426T010444
CREATED:20260310T022116Z
LAST-MODIFIED:20260310T022116Z
UID:10001200-1780963200-1781222399@ausveg.com.au
SUMMARY:Bridge2Food Europe
DESCRIPTION:Home / Food & Bio Cluster DenmarkBridge2Food Europe 2026 is set to take place in Copenhagen\, with a renewed focus on what really defines success in next-generation food innovation: products that consumers genuinely want to buy\, eat\, and come back for. \nFrom taste and texture to functionality\, processing\, scale-up\, nutrition\, and cost\, we’ll tackle the hard topics that stand between innovation and commercial reality.
URL:https://ausveg.com.au/event/bridge2food-europe/
LOCATION:Copenhagen\, Denmark
CATEGORIES:[International]
ATTACH;FMTTYPE=image/png:https://ausveg.com.au/app/uploads/2026/03/bridge2food-denmark.png
END:VEVENT
END:VCALENDAR