BEGIN:VCALENDAR
VERSION:2.0
PRODID:-//AUSVEG - ECPv6.10.3//NONSGML v1.0//EN
CALSCALE:GREGORIAN
METHOD:PUBLISH
X-ORIGINAL-URL:https://ausveg.com.au
X-WR-CALDESC:Events for AUSVEG
REFRESH-INTERVAL;VALUE=DURATION:PT1H
X-Robots-Tag:noindex
X-PUBLISHED-TTL:PT1H
BEGIN:VTIMEZONE
TZID:Australia/Melbourne
BEGIN:STANDARD
TZOFFSETFROM:+1100
TZOFFSETTO:+1000
TZNAME:AEST
DTSTART:20170401T160000
END:STANDARD
BEGIN:DAYLIGHT
TZOFFSETFROM:+1000
TZOFFSETTO:+1100
TZNAME:AEDT
DTSTART:20170930T160000
END:DAYLIGHT
BEGIN:STANDARD
TZOFFSETFROM:+1100
TZOFFSETTO:+1000
TZNAME:AEST
DTSTART:20180331T160000
END:STANDARD
BEGIN:DAYLIGHT
TZOFFSETFROM:+1000
TZOFFSETTO:+1100
TZNAME:AEDT
DTSTART:20181006T160000
END:DAYLIGHT
BEGIN:STANDARD
TZOFFSETFROM:+1100
TZOFFSETTO:+1000
TZNAME:AEST
DTSTART:20190406T160000
END:STANDARD
BEGIN:DAYLIGHT
TZOFFSETFROM:+1000
TZOFFSETTO:+1100
TZNAME:AEDT
DTSTART:20191005T160000
END:DAYLIGHT
BEGIN:STANDARD
TZOFFSETFROM:+1100
TZOFFSETTO:+1000
TZNAME:AEST
DTSTART:20200404T160000
END:STANDARD
BEGIN:DAYLIGHT
TZOFFSETFROM:+1000
TZOFFSETTO:+1100
TZNAME:AEDT
DTSTART:20201003T160000
END:DAYLIGHT
BEGIN:STANDARD
TZOFFSETFROM:+1100
TZOFFSETTO:+1000
TZNAME:AEST
DTSTART:20210403T160000
END:STANDARD
BEGIN:DAYLIGHT
TZOFFSETFROM:+1000
TZOFFSETTO:+1100
TZNAME:AEDT
DTSTART:20211002T160000
END:DAYLIGHT
BEGIN:STANDARD
TZOFFSETFROM:+1100
TZOFFSETTO:+1000
TZNAME:AEST
DTSTART:20220402T160000
END:STANDARD
BEGIN:DAYLIGHT
TZOFFSETFROM:+1000
TZOFFSETTO:+1100
TZNAME:AEDT
DTSTART:20221001T160000
END:DAYLIGHT
BEGIN:STANDARD
TZOFFSETFROM:+1100
TZOFFSETTO:+1000
TZNAME:AEST
DTSTART:20230401T160000
END:STANDARD
BEGIN:DAYLIGHT
TZOFFSETFROM:+1000
TZOFFSETTO:+1100
TZNAME:AEDT
DTSTART:20230930T160000
END:DAYLIGHT
BEGIN:STANDARD
TZOFFSETFROM:+1100
TZOFFSETTO:+1000
TZNAME:AEST
DTSTART:20240406T160000
END:STANDARD
BEGIN:DAYLIGHT
TZOFFSETFROM:+1000
TZOFFSETTO:+1100
TZNAME:AEDT
DTSTART:20241005T160000
END:DAYLIGHT
BEGIN:STANDARD
TZOFFSETFROM:+1100
TZOFFSETTO:+1000
TZNAME:AEST
DTSTART:20250405T160000
END:STANDARD
BEGIN:DAYLIGHT
TZOFFSETFROM:+1000
TZOFFSETTO:+1100
TZNAME:AEDT
DTSTART:20251004T160000
END:DAYLIGHT
END:VTIMEZONE
BEGIN:VEVENT
DTSTART;TZID=Australia/Melbourne:20251112T120000
DTEND;TZID=Australia/Melbourne:20251112T123000
DTSTAMP:20260420T050125
CREATED:20251110T235911Z
LAST-MODIFIED:20251110T235911Z
UID:10001119-1762948800-1762950600@ausveg.com.au
SUMMARY:Webinar: Launch of the 2025 Fundamental Guidelines for Fresh Produce Food Safety
DESCRIPTION:Home / Fresh Produce Safety CentreJoin the Fresh Produce Safety Centre (FPSC) for the official launch of the 2025 Fundamental Guidelines for Fresh Produce Food Safety — the industry’s trusted resource for managing food safety risks across the fresh produce supply chain. \nThe refreshed Fundamental Guidelines bring together the latest science\, good practice and regulatory insights to support the ongoing safety and integrity of fresh produce from production to post-harvest handling. Developed through extensive research and industry consultation\, the 2025 edition is designed for every business seeking to strengthen food safety culture\, protect consumers\, and meet market and regulatory expectations. \nThis webinar will be recorded and shared with those who cannot attend.
URL:https://ausveg.com.au/event/webinar-launch-of-the-2025-fundamental-guidelines-for-fresh-produce-food-safety/
LOCATION:Webinar
CATEGORIES:Webinars
ATTACH;FMTTYPE=image/png:https://ausveg.com.au/app/uploads/2025/11/Launch-of-the-2025-Fundamental-Guidelines-for-Fresh-Produce-Food-Safety.png
END:VEVENT
BEGIN:VEVENT
DTSTART;VALUE=DATE:20250729
DTEND;VALUE=DATE:20250731
DTSTAMP:20260420T050125
CREATED:20250319T032954Z
LAST-MODIFIED:20250319T033110Z
UID:10001023-1753747200-1753919999@ausveg.com.au
SUMMARY:International Fresh Produce Safety Symposium 2025
DESCRIPTION:Home / Fresh Produce Safety CentreFollowing the resounding success of the inaugural event in August 2024\, the Fresh Produce Safety Centre Australia-New Zealand are excited to announce the dates for the 2025 International Fresh Produce Safety Symposium (#IFPSS25). The highly anticipated event will return to the Novotel Sydney Brighton Beach on 29-30 July 2025. \nBuilding on the momentum of the first symposium\, #IFPSS25 promises two full days of groundbreaking sessions\, focused on ensuring the highest standards in fresh produce safety across Australia\, New Zealand\, and globally. Experts\, thought leaders\, and professionals from the fresh produce industry will come together to collaborate\, discuss emerging challenges\, and share innovative solutions aimed at maintaining safe and sustainable food supply chains. \nAttendees can look forward to a diverse range of topics\, including risk assessment\, pathogen control\, supply chain traceability\, and technology-driven innovations in food safety. In addition to the educational sessions\, the 2025 Symposium will offer valuable networking opportunities and an interactive exhibition\, providing an intimate forum to showcase cutting-edge products\, services\, and solutions for fresh produce safety to a niche\, highly-engaged delegation. \nRegister here
URL:https://ausveg.com.au/event/international-fresh-produce-safety-symposium-2/
LOCATION:Novotel Sydney Brighton Beach
CATEGORIES:NSW
ATTACH;FMTTYPE=image/png:https://ausveg.com.au/app/uploads/2025/03/IFPSS25-full-logo-web-banner.png
END:VEVENT
BEGIN:VEVENT
DTSTART;TZID=Australia/Melbourne:20171011T120000
DTEND;TZID=Australia/Melbourne:20171011T130000
DTSTAMP:20260420T050125
CREATED:20170925T034853Z
LAST-MODIFIED:20170925T035005Z
UID:10000561-1507723200-1507726800@ausveg.com.au
SUMMARY:Webinar: Risk assessment for pre-harvest water use
DESCRIPTION:Home / Fresh Produce Safety CentreTargeted at growers and Quality Assurance (QA) personnel\, this event has been specifically organised by the Fresh Produce Safety Centre Australia & New Zealand with direct input from the horticulture (fruit and vegetable) industry. \nFocusing on risk assessment of pre-harvest water\, speakers will discuss common pitfalls and corrective actions. Risk assessment is the identification of hazards and analysis of potential impacts\, and pre-harvest water includes all on-farm use of water\, up to the point of harvest. \nFor more information\, please see the flyer\, or to register for this webinar\, please click here.
URL:https://ausveg.com.au/event/webinar-risk-assessment-pre-harvest-water-use/
CATEGORIES:ACT,VIC,NSW,QLD,NT,WA,TAS,SA
END:VEVENT
END:VCALENDAR