BEGIN:VCALENDAR
VERSION:2.0
PRODID:-//AUSVEG - ECPv6.10.3//NONSGML v1.0//EN
CALSCALE:GREGORIAN
METHOD:PUBLISH
X-WR-CALNAME:AUSVEG
X-ORIGINAL-URL:https://ausveg.com.au
X-WR-CALDESC:Events for AUSVEG
REFRESH-INTERVAL;VALUE=DURATION:PT1H
X-Robots-Tag:noindex
X-PUBLISHED-TTL:PT1H
BEGIN:VTIMEZONE
TZID:Australia/Sydney
BEGIN:STANDARD
TZOFFSETFROM:+1100
TZOFFSETTO:+1000
TZNAME:AEST
DTSTART:20180331T160000
END:STANDARD
BEGIN:DAYLIGHT
TZOFFSETFROM:+1000
TZOFFSETTO:+1100
TZNAME:AEDT
DTSTART:20181006T160000
END:DAYLIGHT
END:VTIMEZONE
BEGIN:VEVENT
DTSTART;VALUE=DATE:20180214
DTEND;VALUE=DATE:20180216
DTSTAMP:20260420T171407
CREATED:20180202T025638Z
LAST-MODIFIED:20180202T025638Z
UID:10000641-1518566400-1518739199@ausveg.com.au
SUMMARY:Organic symposium (Canberra)
DESCRIPTION:Home / Organic Industries of AustraliaOrganic industry members and stakeholders\, including organic vegetable growers\, are encouraged to attend an upcoming symposium to discuss the future of the sector and the formation of a new peak body. \nThe Australian Government has announced a range of initiatives to drive the profitability\, resilience and sustainability of the organic sector\, including committing $30.8 million under the Agriculture White Paper to increase access to premium markets. \nThis symposium is being convened to discuss the future of the government’s organic program and to deliberate on the formation of a new organic industry peak body to represent the industry. For more information on the symposium\, please click here. To register to attend\, visit the symposium’s EventBrite page.
URL:https://ausveg.com.au/event/organic-symposium-canberra/
LOCATION:Old Parliament House\, 18 King George Terrace\, Parkes\, ACT\, 2600\, Australia
CATEGORIES:ACT
END:VEVENT
END:VCALENDAR