BEGIN:VCALENDAR
VERSION:2.0
PRODID:-//AUSVEG - ECPv6.10.3//NONSGML v1.0//EN
CALSCALE:GREGORIAN
METHOD:PUBLISH
X-WR-CALNAME:AUSVEG
X-ORIGINAL-URL:https://ausveg.com.au
X-WR-CALDESC:Events for AUSVEG
REFRESH-INTERVAL;VALUE=DURATION:PT1H
X-Robots-Tag:noindex
X-PUBLISHED-TTL:PT1H
BEGIN:VTIMEZONE
TZID:Australia/Melbourne
BEGIN:STANDARD
TZOFFSETFROM:+1100
TZOFFSETTO:+1000
TZNAME:AEST
DTSTART:20250405T160000
END:STANDARD
BEGIN:DAYLIGHT
TZOFFSETFROM:+1000
TZOFFSETTO:+1100
TZNAME:AEDT
DTSTART:20251004T160000
END:DAYLIGHT
END:VTIMEZONE
BEGIN:VEVENT
DTSTART;TZID=Australia/Melbourne:20250709T130000
DTEND;TZID=Australia/Melbourne:20250709T140000
DTSTAMP:20260423T084101
CREATED:20250624T232411Z
LAST-MODIFIED:20250624T232446Z
UID:10001046-1752066000-1752069600@ausveg.com.au
SUMMARY:Season 2024 National Vegetable and Onion Benchmark Webinar
DESCRIPTION:Home / PlanfarmThe Level up Hort 2024 Season National Vegetable & Onion Benchmark Report is out — and the numbers speak volumes. \nJoin Planfarm and RMCG for a free webinar on Wed 9 July (1:00 pm AEST/ 12:30 pm ACST/ 11:00 am AWST) where they unpack the key benchmark findings and delve into the data to reveal implications for vegetable businesses\, ongoing challenges\, and how your business can move ahead with clarity. \nFor further information about Level Up Hort\, or to download your copy of the 2024 Season Benchmark Report head to the Level Up Hort website\, or contact project manager Steff Carstairs at 0428 712 852 for a chat. \nRegister your place here: Season 2024 National Vegetable and Onion Benchmark Webinar \n  \nThis project has been funded by Hort Innovation\, using the Vegetable and Onion research and development levy and contributions from the Australian Government. Hort Innovation is the grower-owned\, not-for-profit research and development corporation for Australian horticulture. Project number MT22009
URL:https://ausveg.com.au/event/season-2024-national-vegetable-and-onion-benchmark-webinar/
CATEGORIES:Webinars
END:VEVENT
END:VCALENDAR