BEGIN:VCALENDAR
VERSION:2.0
PRODID:-//AUSVEG - ECPv6.10.3//NONSGML v1.0//EN
CALSCALE:GREGORIAN
METHOD:PUBLISH
X-ORIGINAL-URL:https://ausveg.com.au
X-WR-CALDESC:Events for AUSVEG
REFRESH-INTERVAL;VALUE=DURATION:PT1H
X-Robots-Tag:noindex
X-PUBLISHED-TTL:PT1H
BEGIN:VTIMEZONE
TZID:Australia/Adelaide
BEGIN:STANDARD
TZOFFSETFROM:+1030
TZOFFSETTO:+0930
TZNAME:ACST
DTSTART:20250405T163000
END:STANDARD
BEGIN:DAYLIGHT
TZOFFSETFROM:+0930
TZOFFSETTO:+1030
TZNAME:ACDT
DTSTART:20251004T163000
END:DAYLIGHT
END:VTIMEZONE
BEGIN:VTIMEZONE
TZID:Australia/Melbourne
BEGIN:STANDARD
TZOFFSETFROM:+1100
TZOFFSETTO:+1000
TZNAME:AEST
DTSTART:20240406T160000
END:STANDARD
BEGIN:DAYLIGHT
TZOFFSETFROM:+1000
TZOFFSETTO:+1100
TZNAME:AEDT
DTSTART:20241005T160000
END:DAYLIGHT
BEGIN:STANDARD
TZOFFSETFROM:+1100
TZOFFSETTO:+1000
TZNAME:AEST
DTSTART:20250405T160000
END:STANDARD
BEGIN:DAYLIGHT
TZOFFSETFROM:+1000
TZOFFSETTO:+1100
TZNAME:AEDT
DTSTART:20251004T160000
END:DAYLIGHT
END:VTIMEZONE
BEGIN:VEVENT
DTSTART;TZID=Australia/Adelaide:20250925T123000
DTEND;TZID=Australia/Adelaide:20250925T160000
DTSTAMP:20260420T032029
CREATED:20250909T011940Z
LAST-MODIFIED:20250909T011940Z
UID:10001089-1758803400-1758816000@ausveg.com.au
SUMMARY:SA: IPM in Action: Monitor\, Manage\, Protect
DESCRIPTION:Home / RMCGPest pressures in protected cropping can be intense – but with the right tools and knowledge\, you can stay ahead. This practical workshop for protected cropping growers will refresh your understanding of integrated pest management (IPM)\, sharpen your monitoring skills\, and help you identify and control key pests before they become costly problems. \nJoin us for an afternoon of expert advice\, hands-on learning\, and networking with fellow growers. You’ll leave with practical strategies to protect your crops\, your business\, and your bottom line. \nTopics covered \n\nIPM fundamentals – how to integrate cultural\, biological\, and chemical controls\nManaging key pests – identification and management strategies for major protected cropping pests\nBeneficial insects – how predatory insects can work for you\nEffective monitoring – practical tips to detect problems early in the greenhouse
URL:https://ausveg.com.au/event/sa-ipm-in-action-monitor-manage-protect/
LOCATION:Braham Produce\, 42 Alfred Rd\, Virginia\, SA\, Australia
CATEGORIES:SA
ATTACH;FMTTYPE=image/png:https://ausveg.com.au/app/uploads/2025/09/IPM-in-action-Monitor-manage-protect-SA.png
END:VEVENT
BEGIN:VEVENT
DTSTART;TZID=Australia/Melbourne:20250916T090000
DTEND;TZID=Australia/Melbourne:20250916T143000
DTSTAMP:20260420T032029
CREATED:20250909T004915Z
LAST-MODIFIED:20250909T004915Z
UID:10001088-1758013200-1758033000@ausveg.com.au
SUMMARY:VIC: IPM in Action: Monitor\, Manage\, Protect
DESCRIPTION:Home / RMCGStrong pest management starts with the right knowledge – and this hands-on workshop will give vegetable growers a fresh\, practical look at integrated pest management (IPM). Learn how to spot pest problems early\, identify beneficial insects\, and use monitoring and management strategies to protect your crops and your bottom line. \nWhether you’re new to IPM or need a refresher\, this session will give you the tools and confidence to make better pest control decisions on your farm. \nTopics covered \n\nIPM essentials – the principles behind integrated pest management and how they apply to vegetable production\nManaging key pests – practical strategies for Western Flower Thrips (WFT)\, Diamondback Moth (DBM)\, and Serpentine Leafminer\nBeneficial insects – how parasitoids and other natural enemies can work for you\nMonitoring skills – in-field tips to help you detect problems early and make informed decisions
URL:https://ausveg.com.au/event/vic-ipm-in-action-monitor-manage-protect/
LOCATION:Coolibah Herbs\, 191 Craig Rd\, Pearcedale\, VIC\, 3912\, Australia
CATEGORIES:VIC
ATTACH;FMTTYPE=image/png:https://ausveg.com.au/app/uploads/2025/09/IPM-in-action-Monitor-manage-protect.png
END:VEVENT
BEGIN:VEVENT
DTSTART;TZID=Australia/Melbourne:20250909T160000
DTEND;TZID=Australia/Melbourne:20250909T170000
DTSTAMP:20260420T032029
CREATED:20250902T005337Z
LAST-MODIFIED:20250902T005337Z
UID:10001085-1757433600-1757437200@ausveg.com.au
SUMMARY:WA: Exploring AI and Vegetable Production Workshop
DESCRIPTION:Home / RMCGHelp shape the future of AI in vegetable production \nArtificial Intelligence (AI) is moving fast — but what does it really mean for vegetable growers? \nAn interactive workshop exploring practical applications of AI in the vegetable industry. This face-to-face session is part of Exploring AI Applications for the Vegetable Industry (VG24008)\, a levy-funded project supported by Hort Innovation and delivered by RMCG and the Australian Regional AI Network (ARAIN). \nWe’ll discuss: \n\nReal-world examples of AI in action across agriculture\nHow AI could help manage compliance\, logistics and labour challenges\nYour perspectives on where AI investment should be focused\n\nWhether you’re a grower\, packer\, or supply chain operator\, your input will help shape future industry priorities. \n  \nVG24008 has been funded by Hort Innovation\, using the vegetable industry research and development levy and contributions from the Australian Government.
URL:https://ausveg.com.au/event/wa-exploring-ai-and-vegetable-production-workshop/
LOCATION:Tall Timbers Brewery\, 109 Giblett St\, Manjimup\, WA\, 6258\, Australia
CATEGORIES:WA
ATTACH;FMTTYPE=image/png:https://ausveg.com.au/app/uploads/2025/07/ai-1.png
END:VEVENT
BEGIN:VEVENT
DTSTART;VALUE=DATE:20240508
DTEND;VALUE=DATE:20240510
DTSTAMP:20260420T032029
CREATED:20240415T025916Z
LAST-MODIFIED:20240415T025916Z
UID:10000951-1715126400-1715299199@ausveg.com.au
SUMMARY:Vegetable Soilborne Disease Master Class
DESCRIPTION:Home / RMCGLearn about the importance of soilborne disease for vegetable and onion crops. Participants will hear from leading scientists and growers on the new developments in soilborne disease management. Working together\, participants will then apply learnings to vegetable and onion growing soils. This 2-day masterclass is aimed at vegetable growers\, onion growers\, and agronomists. \n  \n\n\n\n\n\n\nDate and time\n\n\n \n\nWed\, 8 May 2024 8:30 AM – Thu\, 9 May 2024 3:30 AM ACST\n\n\n\n\n\n\n\n\n\n\n\n\n\n\nLocation\n\n \n\nTechnology Park Adelaide – Offices and Conference Centre \nMawson Lakes Boulevard Mawson Lakes\, SA 5095
URL:https://ausveg.com.au/event/vegetable-soilborne-disease-master-class/
LOCATION:Technology Park Adelaide Conference Centre\, Technology Park Adelaide Conference Centre\, Mawson Lakes Blvd\, Mawson Lakes\, Adelaide\, SA 5095
CATEGORIES:SA
ATTACH;FMTTYPE=image/jpeg:https://ausveg.com.au/app/uploads/2024/04/https___cdn.evbuc_.com_images_735458279_2087778760293_1_original.jpg
END:VEVENT
END:VCALENDAR