BEGIN:VCALENDAR
VERSION:2.0
PRODID:-//AUSVEG - ECPv6.10.3//NONSGML v1.0//EN
CALSCALE:GREGORIAN
METHOD:PUBLISH
X-WR-CALNAME:AUSVEG
X-ORIGINAL-URL:https://ausveg.com.au
X-WR-CALDESC:Events for AUSVEG
REFRESH-INTERVAL;VALUE=DURATION:PT1H
X-Robots-Tag:noindex
X-PUBLISHED-TTL:PT1H
BEGIN:VTIMEZONE
TZID:Australia/Melbourne
BEGIN:STANDARD
TZOFFSETFROM:+1100
TZOFFSETTO:+1000
TZNAME:AEST
DTSTART:20260404T160000
END:STANDARD
BEGIN:DAYLIGHT
TZOFFSETFROM:+1000
TZOFFSETTO:+1100
TZNAME:AEDT
DTSTART:20261003T160000
END:DAYLIGHT
END:VTIMEZONE
BEGIN:VEVENT
DTSTART;VALUE=DATE:20260615
DTEND;VALUE=DATE:20260617
DTSTAMP:20260426T075853
CREATED:20260310T025123Z
LAST-MODIFIED:20260310T025123Z
UID:10001203-1781481600-1781654399@ausveg.com.au
SUMMARY:Future Food Tech Chicago
DESCRIPTION:Home / Convene Willis TowerFuture Food-Tech Chicago is where breakthrough innovators unite with global food corporates\, investors\, ingredient providers\, manufacturers and policy makers to forge partnerships\, bridge supply gaps and discover the next generation of sustainable proteins and ingredients. \nAs America’s leading food-industry hub\, Chicago takes you to the heart of major corporate decision-making\, opening fast-track pathways to global food brands and high-value partnership opportunities.
URL:https://ausveg.com.au/event/future-food-tech-chicago/
LOCATION:Convene Willis Tower\, 233 S Wacker Dr\, Chicago\, IL\, 60606\, United States
CATEGORIES:[International]
ATTACH;FMTTYPE=image/png:https://ausveg.com.au/app/uploads/2026/03/future-food-tech-chicago.png
END:VEVENT
END:VCALENDAR