BEGIN:VCALENDAR
VERSION:2.0
PRODID:-//AUSVEG - ECPv6.10.3//NONSGML v1.0//EN
CALSCALE:GREGORIAN
METHOD:PUBLISH
X-ORIGINAL-URL:https://ausveg.com.au
X-WR-CALDESC:Events for AUSVEG
REFRESH-INTERVAL;VALUE=DURATION:PT1H
X-Robots-Tag:noindex
X-PUBLISHED-TTL:PT1H
BEGIN:VTIMEZONE
TZID:Australia/Sydney
BEGIN:STANDARD
TZOFFSETFROM:+1100
TZOFFSETTO:+1000
TZNAME:AEST
DTSTART:20170401T160000
END:STANDARD
BEGIN:DAYLIGHT
TZOFFSETFROM:+1000
TZOFFSETTO:+1100
TZNAME:AEDT
DTSTART:20170930T160000
END:DAYLIGHT
END:VTIMEZONE
BEGIN:VEVENT
DTSTART;TZID=Australia/Sydney:20171031T140000
DTEND;TZID=Australia/Sydney:20171031T161500
DTSTAMP:20260420T100229
CREATED:20171009T022549Z
LAST-MODIFIED:20171009T022549Z
UID:10000475-1509458400-1509466500@ausveg.com.au
SUMMARY:Workshop: Food labelling (Sydney)
DESCRIPTION:Home / CSIRO North RydeTo help businesses better understand product labelling requirements (including compliance requirements) and their opportunities to maximise product performance\, CSIRO is hosting a series of free workshops in October and November. \nThese workshops will answer common labelling questions\, including: \n\nWhat are the new labelling rules about country of origin and how do they affect food businesses?\nWhat do consumers think of food labelling? Do they trust it?\nWhat is a health claim for the purposes of food labelling and what do you need to make one?\nHow can businesses communicate the nutritional benefit of their food?\nShould businesses support the Health Star Rating system for their products?\n\nAttendees will also have the opportunity to have a free one-on-one meeting with CSIRO presenters for a product assessment and discussion about their business needs. \nFor more information\, see the event website.
URL:https://ausveg.com.au/event/workshop-food-labelling-sydney/
LOCATION:CSIRO North Ryde\, Room 101/102\, Level 3\, Building 53\, 11 Julius Avenue\, North Ryde\, NSW\, Australia
CATEGORIES:NSW
END:VEVENT
END:VCALENDAR