BEGIN:VCALENDAR
VERSION:2.0
PRODID:-//AUSVEG - ECPv6.10.3//NONSGML v1.0//EN
CALSCALE:GREGORIAN
METHOD:PUBLISH
X-ORIGINAL-URL:https://ausveg.com.au
X-WR-CALDESC:Events for AUSVEG
REFRESH-INTERVAL;VALUE=DURATION:PT1H
X-Robots-Tag:noindex
X-PUBLISHED-TTL:PT1H
BEGIN:VTIMEZONE
TZID:Australia/Melbourne
BEGIN:STANDARD
TZOFFSETFROM:+1100
TZOFFSETTO:+1000
TZNAME:AEST
DTSTART:20250405T160000
END:STANDARD
BEGIN:DAYLIGHT
TZOFFSETFROM:+1000
TZOFFSETTO:+1100
TZNAME:AEDT
DTSTART:20251004T160000
END:DAYLIGHT
END:VTIMEZONE
BEGIN:VEVENT
DTSTART;TZID=Australia/Melbourne:20250731T120000
DTEND;TZID=Australia/Melbourne:20250731T160000
DTSTAMP:20260420T043440
CREATED:20250729T004740Z
LAST-MODIFIED:20250729T004740Z
UID:10001062-1753963200-1753977600@ausveg.com.au
SUMMARY:TAS: TAPG Midwinter Forum 2025
DESCRIPTION:Home / Devonport Country Club“Towards 2050 – Moving the Agricultural Industry Forward” Forum Schedule \nUnderstanding three key initiatives that will help drive the schedule. \n  \nSession 1: Consultation by Trade Tas\, Department of State Growth \nPresented by Erin Buttermore & Brett Charlton \n\nReview of current strategy\nDevelopment of 2025- 30 strategy\n\n  \nSession 2: The “Pumping Heart” of Tasmanian Agriculture \nPresented by Michael Sylvester – CEO Tas Irrigation \n\nTI Business/Major Projects Update\n\n  \nSession 3: Clean Fuel to power our machines \n“Understanding Hydrogen initiatives in Tasmania and opportunities for Agriculture” \nIntroduction by: Professor Irene Penesis\, Research Director & Acting CEO\, Blue Economy CRC \nPanel Presentations: \n\nSimon Troman\, Manager\, Hydrogen Development (ReCFIT) Dept. State Growth\nCraig Dugan\, Optimal Group\nAndrew Willis\, Toyota Australia\n\nQ & A Panel session featuring all presenters \nInspection and discussion of the Toyota Mirai car on display. \nThe recent developments at ABEL Energy’s Bell Bay Powerfuels project make this a particularly compelling session for attendees.
URL:https://ausveg.com.au/event/tas-tapg-midwinter-forum-2025/
LOCATION:Devonport Country Club\, 66 Woodrising Avenue\, Spreyton\, TAS\, 7310\, Australia
CATEGORIES:TAS
ATTACH;FMTTYPE=image/png:https://ausveg.com.au/app/uploads/2025/07/tapg-midwinter-forum.png
END:VEVENT
END:VCALENDAR