BEGIN:VCALENDAR
VERSION:2.0
PRODID:-//AUSVEG - ECPv6.10.3//NONSGML v1.0//EN
CALSCALE:GREGORIAN
METHOD:PUBLISH
X-WR-CALNAME:AUSVEG
X-ORIGINAL-URL:https://ausveg.com.au
X-WR-CALDESC:Events for AUSVEG
REFRESH-INTERVAL;VALUE=DURATION:PT1H
X-Robots-Tag:noindex
X-PUBLISHED-TTL:PT1H
BEGIN:VTIMEZONE
TZID:Australia/Melbourne
BEGIN:STANDARD
TZOFFSETFROM:+1100
TZOFFSETTO:+1000
TZNAME:AEST
DTSTART:20170401T160000
END:STANDARD
BEGIN:DAYLIGHT
TZOFFSETFROM:+1000
TZOFFSETTO:+1100
TZNAME:AEDT
DTSTART:20170930T160000
END:DAYLIGHT
END:VTIMEZONE
BEGIN:VEVENT
DTSTART;TZID=Australia/Melbourne:20171030T110000
DTEND;TZID=Australia/Melbourne:20171030T123000
DTSTAMP:20260420T033457
CREATED:20170913T000857Z
LAST-MODIFIED:20171016T033823Z
UID:10000517-1509361200-1509366600@ausveg.com.au
SUMMARY:Workshop: SWIT Information Session (Richmond)
DESCRIPTION:Home / Hatchers Richmond ManorGrowers are invited to attend a series of information sessions regarding on the Australian Government’s Seasonal Work Incentives Trial\, which commenced on 1 July 2017. \nThe Trial offers financial incentives to encourage unemployed people to take up short-term seasonal work opportunities in the horticultural industry to help address the seasonal labour demands of horticultural growers. \nFor a full schedule of workshop locations\, dates and times\, please click here. For more information on the Seasonal Work Incentives Trial\, please see this fact sheet\, or visit the Department of Employment’s website. \nGrowers who are interested in attending a workshop can register their interest by email at SWIT@employment.gov.au.
URL:https://ausveg.com.au/event/workshop-swit-information-session-richmond/
LOCATION:Hatchers Richmond Manor\, Prossers Road\, Richmond\, TAS\, 7025\, Australia
CATEGORIES:TAS
END:VEVENT
END:VCALENDAR