BEGIN:VCALENDAR
VERSION:2.0
PRODID:-//AUSVEG - ECPv6.10.3//NONSGML v1.0//EN
CALSCALE:GREGORIAN
METHOD:PUBLISH
X-WR-CALNAME:AUSVEG
X-ORIGINAL-URL:https://ausveg.com.au
X-WR-CALDESC:Events for AUSVEG
REFRESH-INTERVAL;VALUE=DURATION:PT1H
X-Robots-Tag:noindex
X-PUBLISHED-TTL:PT1H
BEGIN:VTIMEZONE
TZID:Australia/Melbourne
BEGIN:STANDARD
TZOFFSETFROM:+1100
TZOFFSETTO:+1000
TZNAME:AEST
DTSTART:20240406T160000
END:STANDARD
BEGIN:DAYLIGHT
TZOFFSETFROM:+1000
TZOFFSETTO:+1100
TZNAME:AEDT
DTSTART:20241005T160000
END:DAYLIGHT
END:VTIMEZONE
BEGIN:VEVENT
DTSTART;TZID=Australia/Melbourne:20240322T090000
DTEND;TZID=Australia/Melbourne:20240322T123000
DTSTAMP:20260420T032154
CREATED:20240229T043333Z
LAST-MODIFIED:20240304T055103Z
UID:10000933-1711098000-1711110600@ausveg.com.au
SUMMARY:Post flooding to current season pest & disease management in practice
DESCRIPTION:Home / Local Land Services  Demonstration FarmNSW vegetable growers and sweet corn field day. \nFuture proofing against weather events: How can monitoring & integrated pest and disease management (IPDM) assist your farm? \nWhere: The Greater Sydney Local Land Services Demonstration Farm\n40 Edwards Rd\, Richmond Lowlands. \nRegister Here: https://regionalnsw.qualtrics.com/jfe/form/SV_6nxEIpTWXVHCzYy
URL:https://ausveg.com.au/event/post-flooding-to-current-season-pest-disease-management-in-practice-2/
LOCATION:Local Land Services  Demonstration Farm\, 40 Edwards Road\, Richmond Lowlands\, NSW\, 2753\, Australia
CATEGORIES:NSW,VegNET
ATTACH;FMTTYPE=image/png:https://ausveg.com.au/app/uploads/2024/02/FINAL_Sydney-Basin-Richmond-Grower-Day-March-22-2024-2-1.png
END:VEVENT
END:VCALENDAR