BEGIN:VCALENDAR
VERSION:2.0
PRODID:-//AUSVEG - ECPv6.10.3//NONSGML v1.0//EN
CALSCALE:GREGORIAN
METHOD:PUBLISH
X-ORIGINAL-URL:https://ausveg.com.au
X-WR-CALDESC:Events for AUSVEG
REFRESH-INTERVAL;VALUE=DURATION:PT1H
X-Robots-Tag:noindex
X-PUBLISHED-TTL:PT1H
BEGIN:VTIMEZONE
TZID:America/Los_Angeles
BEGIN:DAYLIGHT
TZOFFSETFROM:-0800
TZOFFSETTO:-0700
TZNAME:PDT
DTSTART:20250309T100000
END:DAYLIGHT
BEGIN:STANDARD
TZOFFSETFROM:-0700
TZOFFSETTO:-0800
TZNAME:PST
DTSTART:20251102T090000
END:STANDARD
BEGIN:DAYLIGHT
TZOFFSETFROM:-0800
TZOFFSETTO:-0700
TZNAME:PDT
DTSTART:20260308T100000
END:DAYLIGHT
BEGIN:STANDARD
TZOFFSETFROM:-0700
TZOFFSETTO:-0800
TZNAME:PST
DTSTART:20261101T090000
END:STANDARD
END:VTIMEZONE
BEGIN:VEVENT
DTSTART;VALUE=DATE:20260319
DTEND;VALUE=DATE:20260321
DTSTAMP:20260421T112424
CREATED:20260309T235740Z
LAST-MODIFIED:20260309T235740Z
UID:10001186-1773878400-1774051199@ausveg.com.au
SUMMARY:San Franciso: Future Food-Tech
DESCRIPTION:Home / San Francisco Marriott MarquisMeet the global leaders building a healthy & sustainable future at Future Food-Tech San Francisco. \nJoin CPGs\, retailers\, ingredient and technology providers\, cutting-edge entrepreneurs and investors on March 19-20\, 2026 and connect for targeted networking\, exclusive industry insights and start-up discovery. \nWhy attend? \n\nMeet the innovators shaping the future of food\nTaste tomorrow’s products in live demos\nSpark partnerships that drive real-world impact
URL:https://ausveg.com.au/event/san-franciso-future-food-tech/
LOCATION:San Francisco Marriott Marquis
CATEGORIES:[International]
ATTACH;FMTTYPE=image/png:https://ausveg.com.au/app/uploads/2026/03/future-food-tech-san-fran.png
END:VEVENT
BEGIN:VEVENT
DTSTART;VALUE=DATE:20260317
DTEND;VALUE=DATE:20260319
DTSTAMP:20260421T112424
CREATED:20260309T235316Z
LAST-MODIFIED:20260309T235526Z
UID:10001185-1773705600-1773878399@ausveg.com.au
SUMMARY:San Francisco: World Agri-Tech Innovation Summit
DESCRIPTION:Home / San Francisco Marriott MarquisMeet the global leaders driving sustainable agricultural practices in San Francisco on March 17–18\, 2026. \nBe at the summit with 1700+ decision makers from agribusinesses\, technology giants\, food brands\, farmers\, policymakers\, investors\, and start-ups for strategic networking\, industry benchmarking\, agri-tech discovery\, and deal making.
URL:https://ausveg.com.au/event/world-agri-tech-innovation-summit/
LOCATION:San Francisco Marriott Marquis
CATEGORIES:[International]
ATTACH;FMTTYPE=image/png:https://ausveg.com.au/app/uploads/2026/03/world-agritech-expo-san-fran.png
END:VEVENT
BEGIN:VEVENT
DTSTART;VALUE=DATE:20250313
DTEND;VALUE=DATE:20250315
DTSTAMP:20260421T112424
CREATED:20241217T032916Z
LAST-MODIFIED:20241217T032916Z
UID:10000990-1741824000-1741996799@ausveg.com.au
SUMMARY:Future Food-Tech - San Francisco
DESCRIPTION:Home / San Francisco Marriott MarquisJoin global leaders from CPGs & retailers\, ingredient and technology providers to cutting-edge innovators and investors for strategic networking\, exclusive industry insight and start-up discovery.
URL:https://ausveg.com.au/event/future-food-tech-san-francisco/
LOCATION:San Francisco Marriott Marquis
CATEGORIES:[International]
ATTACH;FMTTYPE=image/png:https://ausveg.com.au/app/uploads/2024/12/future-food-tech-2025.png
END:VEVENT
END:VCALENDAR