BEGIN:VCALENDAR
VERSION:2.0
PRODID:-//AUSVEG - ECPv6.10.3//NONSGML v1.0//EN
CALSCALE:GREGORIAN
METHOD:PUBLISH
X-WR-CALNAME:AUSVEG
X-ORIGINAL-URL:https://ausveg.com.au
X-WR-CALDESC:Events for AUSVEG
REFRESH-INTERVAL;VALUE=DURATION:PT1H
X-Robots-Tag:noindex
X-PUBLISHED-TTL:PT1H
BEGIN:VTIMEZONE
TZID:Australia/Melbourne
BEGIN:STANDARD
TZOFFSETFROM:+1100
TZOFFSETTO:+1000
TZNAME:AEST
DTSTART:20250405T160000
END:STANDARD
BEGIN:DAYLIGHT
TZOFFSETFROM:+1000
TZOFFSETTO:+1100
TZNAME:AEDT
DTSTART:20251004T160000
END:DAYLIGHT
END:VTIMEZONE
BEGIN:VEVENT
DTSTART;VALUE=DATE:20250723
DTEND;VALUE=DATE:20250724
DTSTAMP:20260422T093032
CREATED:20250512T231759Z
LAST-MODIFIED:20250512T231759Z
UID:10001038-1753228800-1753315199@ausveg.com.au
SUMMARY:National Renewables in Agriculture Conference and Expo
DESCRIPTION:Home / The Capital Theatre\n\nOn-farm renewables are a valuable opportunity for farmers to cut costs and emissions. \n\n\n\n\nThis event brings together farmers\, agriculture and energy consultants\, peak bodies and Government representatives to share stories of on-farm renewables\, their business case and discuss what’s driving the transformation of energy use in agriculture. \nLarge scale solar and wind developments present opportunities for farmers and regional communities if planned well with meaningful engagement around benefit sharing. These topics plus combining farming and solar\, termed agrivoltaics\, also forms part of the yearly Conference program.
URL:https://ausveg.com.au/event/national-renewables-in-agriculture-conference-and-expo-2/
LOCATION:The Capital Theatre\, Bendigo\, VIC\, Australia
CATEGORIES:VIC
ATTACH;FMTTYPE=image/png:https://ausveg.com.au/app/uploads/2025/05/renewables-in-ag-expo-2025.png
END:VEVENT
END:VCALENDAR