BEGIN:VCALENDAR
VERSION:2.0
PRODID:-//AUSVEG - ECPv6.10.3//NONSGML v1.0//EN
CALSCALE:GREGORIAN
METHOD:PUBLISH
X-ORIGINAL-URL:https://ausveg.com.au
X-WR-CALDESC:Events for AUSVEG
REFRESH-INTERVAL;VALUE=DURATION:PT1H
X-Robots-Tag:noindex
X-PUBLISHED-TTL:PT1H
BEGIN:VTIMEZONE
TZID:Australia/Melbourne
BEGIN:STANDARD
TZOFFSETFROM:+1100
TZOFFSETTO:+1000
TZNAME:AEST
DTSTART:20250405T160000
END:STANDARD
BEGIN:DAYLIGHT
TZOFFSETFROM:+1000
TZOFFSETTO:+1100
TZNAME:AEDT
DTSTART:20251004T160000
END:DAYLIGHT
END:VTIMEZONE
BEGIN:VEVENT
DTSTART;VALUE=DATE:20250916
DTEND;VALUE=DATE:20250919
DTSTAMP:20260420T033438
CREATED:20250414T062015Z
LAST-MODIFIED:20250414T062015Z
UID:10001033-1757980800-1758239999@ausveg.com.au
SUMMARY:Symposium for the Use of Organic Soil Amendments
DESCRIPTION:Home / Twin Towns Conference and Function CentreThe Symposium for the Use of Organic Soil Amendments (SUOSA) will take place on the Southern Gold Coast from 16 to 18 September 2025\, bringing together experts from agriculture\, environmental sciences\, economics\, and policy to discuss the benefits\, challenges\, and future directions for the use of organic soil amendments in agricultural and horticultural production systems. \nThis multi-disciplinary event will explore the agronomic\, environmental\, societal\, regulatory and policy dimensions of using both solid and liquid organic amendments\, which include raw or processed animal manures\, agricultural residues\, food and fibre processing residues\, and urban organic residues\, and where processing can include composting\, pyrolysing\, drying\, digesting\, insect farming\, pelletising\, granulating\, value adding\, etc. Discussions will address nutrient management\, soil health\, carbon sequestration\, circular economy\, regulatory frameworks\, and farmer benefits and adoption. \nWith contributions from leading researchers\, government policymakers\, industry experts\, and producers\, SUOSA 2025 aims to foster collaboration and inform real-world strategies for sustainable soil management and farming systems.
URL:https://ausveg.com.au/event/symposium-for-the-use-of-organic-soil-amendments/
LOCATION:Twin Towns Conference and Function Centre\, Coolangatta\, QLD\, Australia
CATEGORIES:QLD
ATTACH;FMTTYPE=image/png:https://ausveg.com.au/app/uploads/2025/04/Symposium-for-the-Use-of-Organic-Soil-Amendments-.png
END:VEVENT
END:VCALENDAR