BEGIN:VCALENDAR
VERSION:2.0
PRODID:-//AUSVEG - ECPv6.10.3//NONSGML v1.0//EN
CALSCALE:GREGORIAN
METHOD:PUBLISH
X-ORIGINAL-URL:https://ausveg.com.au
X-WR-CALDESC:Events for AUSVEG
REFRESH-INTERVAL;VALUE=DURATION:PT1H
X-Robots-Tag:noindex
X-PUBLISHED-TTL:PT1H
BEGIN:VTIMEZONE
TZID:UTC
BEGIN:STANDARD
TZOFFSETFROM:+0000
TZOFFSETTO:+0000
TZNAME:UTC
DTSTART:20180101T000000
END:STANDARD
END:VTIMEZONE
BEGIN:VEVENT
DTSTART;VALUE=DATE:20180206
DTEND;VALUE=DATE:20180207
DTSTAMP:20260419T234757
CREATED:20180115T044431Z
LAST-MODIFIED:20180115T044431Z
UID:10000626-1517875200-1517961599@ausveg.com.au
SUMMARY:Workshop: Sustainable Farm Families (Yaapeet)
DESCRIPTION:Home / Yaapeet Recreational ReserveThe National Centre for Farmer Health (NCFH) coordinates the Sustainable Farm Family program to encourage farmers to view farm family health as part of the ‘triple bottom line’ of farm reporting. \nThese workshops aim to help farmers identify and track indicators of their family’s health and include these indicators in their far management to ensure the ongoing health\, wellbeing and safety of their family. The program as a whole also aims to collect and provide information on the relationship between family health\, health as a social issue in rural communities and farm productivity. \nThe NCFH is holding a series of workshops in late January and early February in Victoria. For more information\, please see the NCFH website.
URL:https://ausveg.com.au/event/workshop-sustainable-farm-families-yaapeet/
LOCATION:Yaapeet Recreational Reserve\, Yaapeet\, VIC\, 3424\, Australia
CATEGORIES:VIC
END:VEVENT
END:VCALENDAR